BEGIN:VCALENDAR
VERSION:2.0
PRODID:-// - ECPv6.5.0//NONSGML v1.0//EN
CALSCALE:GREGORIAN
METHOD:PUBLISH
X-ORIGINAL-URL:https://lelieuditrestaurant.com
X-WR-CALDESC:évènements pour 
REFRESH-INTERVAL;VALUE=DURATION:PT1H
X-Robots-Tag:noindex
X-PUBLISHED-TTL:PT1H
BEGIN:VTIMEZONE
TZID:Europe/Paris
BEGIN:DAYLIGHT
TZOFFSETFROM:+0100
TZOFFSETTO:+0200
TZNAME:CEST
DTSTART:20090329T010000
END:DAYLIGHT
BEGIN:STANDARD
TZOFFSETFROM:+0200
TZOFFSETTO:+0100
TZNAME:CET
DTSTART:20091025T010000
END:STANDARD
END:VTIMEZONE
BEGIN:VEVENT
DTSTART;TZID=Europe/Paris:20091126T193000
DTEND;TZID=Europe/Paris:20091126T193000
DTSTAMP:20260423T091852
CREATED:20240418T090031Z
LAST-MODIFIED:20240418T090031Z
UID:4230-1259263800-1259263800@lelieuditrestaurant.com
SUMMARY:Les foyers aujourd’hui
DESCRIPTION:Cela commence à peine à être su aujourd’hui : les foyers de travailleurs migrants\, écartelés entre des conditions de logement parfois iniques et des réhabilitations qui sont souvent le prétexte à des évictions contraintes\, recommencent à se mobiliser\, dans un contexte d’hostilité vis à vis des travailleurs étrangers.Avec des approches et des sensibilités différentes\, des documentaristes (Nathalie Joyeux\, Thierry Caron…) et des photographes (Mara Mazzanti\, Olivier Aubert\, André Lejarre\, David Métra…)\, souvent jeunes\, suivent patiemment le quotidien et les mobilisations des « hommes des foyers »\, sans que leurs travaux ne déclenchent généralement l’intérêt des médias. Cette soirée se propose de montrer certaines de leurs images et d’évoquer la situation dans le XXe arrondissement de Paris (foyer Bisson\, foyer des Mûriers…). \nRejoignez-nous en donnant selon votre générosité !\n	\n					\n				\n				\n					\n					\n				\n\n					\n	\n	\n	\n	\n			\n		\n				\n			\n								Montant du don :\n				\n				€			\n		\n		5\,00€3\,00€7\,00€Montant personnalisé\n	\n				Sélectionnez un moyen de paiement			\n			\n		\n\n		\n						\n										\n							\n							 Stripe - Carte de crédit\n						\n												\n							\n							 PayPal\n						\n												\n							\n							 Don de Test\n						\n									\n					\n			\n\n	\n	\n\n			\n		\n			Informations personnelles		\n\n		\n        \n            \n                Prénom                                    *\n                                            \n            \n         \n\n        \n            \n                Nom                                    *\n                                            \n\n            \n         \n\n        \n                \n            \n                Adresse e-mail                                    *\n                                                \n            \n\n         \n\n        \n					\n	\n        \n            \n                Information de carte bancaire            \n\n                            \n                    \n                    \n					Paiement sécurisé par SSL.				\n                \n                            \n                \n                    \n                        Numéro de la carte                        *\n                        \n                        \n                    \n                    \n                \n            \n\n            \n                \n                    \n                        CVC                        *\n                        \n                    \n                    \n                \n            \n\n            \n                \n                    Nom du propriétaire                    *\n                    \n                \n                \n            \n\n            \n            \n                \n                    \n                        Date d’expiration                        *\n                        \n                    \n\n                    \n                \n            \n                    \n        	\n			\n				\n			Total du don :		\n		\n			5\,00€		\n			 \n		\n	\n		\n		\n		\n	\n		\n	\n	\n\n				\n\n			Votre soutien est crucial pour faire de nos événements un succès. \nRejoignez-nous en donnant selon votre générosité ! \nPARTICIPATION LIBRE
URL:https://lelieuditrestaurant.com/evenement/les-foyers-aujourdhui/
LOCATION:Le Lieu-dit\, 6 rue sorbier\, Paris\, 75020\, France
CATEGORIES:Manifestations thématiques
END:VEVENT
END:VCALENDAR