BEGIN:VCALENDAR
VERSION:2.0
PRODID:-// - ECPv6.5.0//NONSGML v1.0//EN
CALSCALE:GREGORIAN
METHOD:PUBLISH
X-ORIGINAL-URL:https://lelieuditrestaurant.com
X-WR-CALDESC:évènements pour 
REFRESH-INTERVAL;VALUE=DURATION:PT1H
X-Robots-Tag:noindex
X-PUBLISHED-TTL:PT1H
BEGIN:VTIMEZONE
TZID:Europe/Paris
BEGIN:DAYLIGHT
TZOFFSETFROM:+0100
TZOFFSETTO:+0200
TZNAME:CEST
DTSTART:20130331T010000
END:DAYLIGHT
BEGIN:STANDARD
TZOFFSETFROM:+0200
TZOFFSETTO:+0100
TZNAME:CET
DTSTART:20131027T010000
END:STANDARD
BEGIN:DAYLIGHT
TZOFFSETFROM:+0100
TZOFFSETTO:+0200
TZNAME:CEST
DTSTART:20140330T010000
END:DAYLIGHT
BEGIN:STANDARD
TZOFFSETFROM:+0200
TZOFFSETTO:+0100
TZNAME:CET
DTSTART:20141026T010000
END:STANDARD
END:VTIMEZONE
BEGIN:VEVENT
DTSTART;TZID=Europe/Paris:20131231T193000
DTEND;TZID=Europe/Paris:20140101T050000
DTSTAMP:20260420T035846
CREATED:20240418T133721Z
LAST-MODIFIED:20240418T133833Z
UID:4322-1388518200-1388552400@lelieuditrestaurant.com
SUMMARY:Réveillon 2013-2014 : Grande soirée culinaire\, conviviale et festive au Lieu-Dit
DESCRIPTION:Cette année encore Le Lieu-Dit vous propose une inoubliable soirée de réveillon sous le signe du goût de la convivialité et de la musique à vous faire danser jusqu’à l’aube. \nAu programme : \n19h30-23h30 \nUn menu savoureux à 57€ (réservation au 01 40 33 26 29 ou contact@lelieudit.com) : \nApéritif \nCoupe de champagne + mises en bouche \nEntrées \nSaumon sauvage fumé sur toast de fromage doux.OuDuo gourmand de croustillant de chèvre aux deux tapenades et croustillant de magret de canard fumé aux figues. \nPlats \nFilet de bœuf Charolais\, sauce Rossini\, pomme de terre Ratte au four et rouleau de légumes.OuFilet de canette farci de champignons et foie gras\, et sa fameuse gratin dauphinois à la patate douce du Lieu-Dit. \nFromage \nDuo de Cabecou et ST Marcellin et sa confiture de figues. \nDesserts \nfondant au chocolat\, glace vanilleouTiramisuEt en plus fruits de saison (clémentines et raisins) \n22h30 à l’aube \n\n\n\nDe la tradition la plus ancienne à l’expérimentation la plus récente\, le rythme fou sera au rendez vous\, indispensable. \nCette fois\, le mix prendra une tournure désinvolte et terriblement rythmée avec une \nproposition en deux temps : \n 22h-1h : World Wild Party : Afrobeat\, Cumbia\, Ethio-groove\, Taranta\, MPB\, Electrotango\, Neoklezmer \, Blufunk\, Latin Jazz\, Oriental beats … 01h-5h : Block Party : Funk\, Soul\, Disco\, Urban groove\, Hip Hop … A vos baskets ! \nPour télécharger le menu : \n\n\n  \n\n\n\n\nRejoignez-nous en donnant selon votre générosité !\n	\n					\n				\n				\n					\n					\n				\n\n					\n	\n	\n	\n	\n			\n		\n				\n			\n								Montant du don :\n				\n				€			\n		\n		5\,00€3\,00€7\,00€Montant personnalisé\n	\n				Sélectionnez un moyen de paiement			\n			\n		\n\n		\n						\n										\n							\n							 Stripe - Carte de crédit\n						\n												\n							\n							 PayPal\n						\n												\n							\n							 Don de Test\n						\n									\n					\n			\n\n	\n	\n\n			\n		\n			Informations personnelles		\n\n		\n        \n            \n                Prénom                                    *\n                                            \n            \n         \n\n        \n            \n                Nom                                    *\n                                            \n\n            \n         \n\n        \n                \n            \n                Adresse e-mail                                    *\n                                                \n            \n\n         \n\n        \n					\n	\n        \n            \n                Information de carte bancaire            \n\n                            \n                    \n                    \n					Paiement sécurisé par SSL.				\n                \n                            \n                \n                    \n                        Numéro de la carte                        *\n                        \n                        \n                    \n                    \n                \n            \n\n            \n                \n                    \n                        CVC                        *\n                        \n                    \n                    \n                \n            \n\n            \n                \n                    Nom du propriétaire                    *\n                    \n                \n                \n            \n\n            \n            \n                \n                    \n                        Date d’expiration                        *\n                        \n                    \n\n                    \n                \n            \n                    \n        	\n			\n				\n			Total du don :		\n		\n			5\,00€		\n			 \n		\n	\n		\n		\n		\n	\n		\n	\n	\n\n				\n\n			Votre soutien est crucial pour faire de nos événements un succès. \nRejoignez-nous en donnant selon votre générosité ! \nPARTICIPATION LIBRE
URL:https://lelieuditrestaurant.com/evenement/reveillon-2013-2014-grande-soiree-culinaire-conviviale-et-festive-au-lieu-dit/
LOCATION:Le Lieu-dit\, 6 rue sorbier\, Paris\, 75020\, France
CATEGORIES:Manifestations thématiques,Nouvel an
ATTACH;FMTTYPE=image/png:https://lelieuditrestaurant.com/wp-content/uploads/2024/04/Capture-decran-2024-04-18-a-15.37.54.png
END:VEVENT
END:VCALENDAR