BEGIN:VCALENDAR
VERSION:2.0
PRODID:-// - ECPv6.5.0//NONSGML v1.0//EN
CALSCALE:GREGORIAN
METHOD:PUBLISH
X-ORIGINAL-URL:https://lelieuditrestaurant.com
X-WR-CALDESC:évènements pour 
REFRESH-INTERVAL;VALUE=DURATION:PT1H
X-Robots-Tag:noindex
X-PUBLISHED-TTL:PT1H
BEGIN:VTIMEZONE
TZID:Europe/Paris
BEGIN:DAYLIGHT
TZOFFSETFROM:+0100
TZOFFSETTO:+0200
TZNAME:CEST
DTSTART:20120325T010000
END:DAYLIGHT
BEGIN:STANDARD
TZOFFSETFROM:+0200
TZOFFSETTO:+0100
TZNAME:CET
DTSTART:20121028T010000
END:STANDARD
END:VTIMEZONE
BEGIN:VEVENT
DTSTART;TZID=Europe/Paris:20120110T193000
DTEND;TZID=Europe/Paris:20120110T193000
DTSTAMP:20260420T051347
CREATED:20240417T125640Z
LAST-MODIFIED:20240417T125657Z
UID:3995-1326223800-1326223800@lelieuditrestaurant.com
SUMMARY:ENGRENAGE / Lecture de textes et rencontre autour du travail et ses dommages collatéraux
DESCRIPTION:Le Théâtre du Peuple présente\nVincent Goethals – directeur du Théâtre du Peuple/Maurice Pottecher\, Monique Blin – Ecritures en partage\, en partenariat avec le Lieu Dit\, le Théâtre du Mantois\, La Nacelle (scène nationale pour les écritures contemporaines)\, avec le soutien de la SACD\, vous invitent à venir écouter la lecture de \n« ENGRENAGE »\nà partir de textes courts écrits par Virginie Barreteau\, Stéphane Guérin\,Areski Mellal\, Natacha de Poncharra et Frédéric Sonntag\,dans le cadre des journées « auteurs/amateurs » du Théâtre du Peuple de Bussang (juillet 2011) \nChacun de ces auteurs a interprété\, avec son style et son imaginaire propre\, en de brèves scènes sarcastiques ou cruelles\, chorales ou singulières\, ce que lui inspirait une série d’affiches sur la prévention aux accidents du travail… \nOù nous découvrirons Maria\, la migrante bolivienne\, qui ne s’est jamais relevée de ce mystérieux accident (et\, depuis\, son cauchemar a la couleur du pain rouge…) ; Marie-Louise\, la cardeuse\, qui n’a rien vu venir\, ni l’homme à la burette ingurgité par la machine à filer\, ni sa propre chevelure happée entre deux dentures ; Nathalie qui\, mise à pied puis licenciée\, tombe de dix étages (car une place pour chaque chose\, et chaque chose à sa place !) ; et Petites Menottes qui danse\, le travail chevillé au corps\, qui danse jour et nuit pour oublier que la machine lui a mangé un bras… \nAvec l’équipe du Théâtre du Peuple : Jean-Michel Flagothier\, Vincent Goethals\, Maud Lafosse\, Laure Meyer\, Marie Normand\, Laure Tuaillon\, et la chanteuse Solo Gomez. \nEntrée libre \nDurée : 50 minutes \nLa lecture sera suivie d’une rencontre avec Jack Ralite (ancien ministre de la santé et de l’emploi\, membre du conseil d’administration du Théâtre du Peuple) et l’équipe artistique\, autour de la question du travail et de ses dommages collatéraux. \nEt vous pourrez continuer la soirée autour d’un verre ou d’une table !
URL:https://lelieuditrestaurant.com/evenement/engrenage-lecture-de-textes-et-rencontre-autour-du-travail-et-ses-dommages-collateraux/
LOCATION:Le Lieu-dit\, 6 rue sorbier\, Paris\, 75020\, France
CATEGORIES:Rencontres littéraires / débats,Spectacles / Concert
ATTACH;FMTTYPE=image/jpeg:https://lelieuditrestaurant.com/wp-content/uploads/2024/04/arton248.jpg
END:VEVENT
BEGIN:VEVENT
DTSTART;TZID=Europe/Paris:20120118T190000
DTEND;TZID=Europe/Paris:20120118T210000
DTSTAMP:20260420T051347
CREATED:20240403T093457Z
LAST-MODIFIED:20240403T093457Z
UID:1698-1326913200-1326920400@lelieuditrestaurant.com
SUMMARY:ECOLOGIE ET CAPITALISME / L’écologie critique aujourd’hui
DESCRIPTION:Un débat co-organisé par les revues Contretemps\, Eco-rêve\, La Décroissance\, et Écologie et Politique. \nAvec la participation de Jérôme GLEIZES (Eco-rêve)\, Jean-Paul DELEAGE et Denis CHARTIER (Écologie et Politique)\, Fabrice FLIPO (La Décroissance)\, Vincent GAY et Michael LÖWY (Contretemps) \nRejoignez-nous en donnant selon votre générosité !\n	\n					\n				\n				\n					\n					\n				\n\n					\n	\n	\n	\n	\n			\n		\n				\n			\n								Montant du don :\n				\n				€			\n		\n		5\,00€3\,00€7\,00€Montant personnalisé\n	\n				Sélectionnez un moyen de paiement			\n			\n		\n\n		\n						\n										\n							\n							 Stripe - Carte de crédit\n						\n												\n							\n							 PayPal\n						\n												\n							\n							 Don de Test\n						\n									\n					\n			\n\n	\n	\n\n			\n		\n			Informations personnelles		\n\n		\n        \n            \n                Prénom                                    *\n                                            \n            \n         \n\n        \n            \n                Nom                                    *\n                                            \n\n            \n         \n\n        \n                \n            \n                Adresse e-mail                                    *\n                                                \n            \n\n         \n\n        \n					\n	\n        \n            \n                Information de carte bancaire            \n\n                            \n                    \n                    \n					Paiement sécurisé par SSL.				\n                \n                            \n                \n                    \n                        Numéro de la carte                        *\n                        \n                        \n                    \n                    \n                \n            \n\n            \n                \n                    \n                        CVC                        *\n                        \n                    \n                    \n                \n            \n\n            \n                \n                    Nom du propriétaire                    *\n                    \n                \n                \n            \n\n            \n            \n                \n                    \n                        Date d’expiration                        *\n                        \n                    \n\n                    \n                \n            \n                    \n        	\n			\n				\n			Total du don :		\n		\n			5\,00€		\n			 \n		\n	\n		\n		\n		\n	\n		\n	\n	\n\n				\n\n			Votre soutien est crucial pour faire de nos événements un succès. \nRejoignez-nous en donnant selon votre générosité ! \nPARTICIPATION LIBRE
URL:https://lelieuditrestaurant.com/evenement/ecologie-et-capitalisme-lecologie-critique-aujourdhui/
LOCATION:Le Lieu-dit\, 6 rue sorbier\, Paris\, 75020\, France
CATEGORIES:Rencontres littéraires / débats
END:VEVENT
BEGIN:VEVENT
DTSTART;TZID=Europe/Paris:20120119T190000
DTEND;TZID=Europe/Paris:20120119T200000
DTSTAMP:20260420T051348
CREATED:20240403T093309Z
LAST-MODIFIED:20240408T083955Z
UID:1696-1326999600-1327003200@lelieuditrestaurant.com
SUMMARY:A quoi sert Marx aujourd’hui ? Débat avec Roger Martelli\, Isabelle Garo et Samy Johsua
DESCRIPTION:Au Lieu-dit\,6\, rue Sorbier\, Paris XXe \, (Métro Ménilmontant ou Gambetta) \nA quoi sert Marx aujourd’hui ? \nUn débat co-organisé par la Société Louise Michel et la Revue Regards Avec \nRoger Martellihistorien et co-directeur de Regards \nIsabelle Garophilosophe et auteure de plusieurs ouvrages sur Marx \nSamy Johsuauniversitaire et président de la Société Louise Michel \nRejoignez-nous en donnant selon votre générosité !\n	\n					\n				\n				\n					\n					\n				\n\n					\n	\n	\n	\n	\n			\n		\n				\n			\n								Montant du don :\n				\n				€			\n		\n		5\,00€3\,00€7\,00€Montant personnalisé\n	\n				Sélectionnez un moyen de paiement			\n			\n		\n\n		\n						\n										\n							\n							 Stripe - Carte de crédit\n						\n												\n							\n							 PayPal\n						\n												\n							\n							 Don de Test\n						\n									\n					\n			\n\n	\n	\n\n			\n		\n			Informations personnelles		\n\n		\n        \n            \n                Prénom                                    *\n                                            \n            \n         \n\n        \n            \n                Nom                                    *\n                                            \n\n            \n         \n\n        \n                \n            \n                Adresse e-mail                                    *\n                                                \n            \n\n         \n\n        \n					\n	\n        \n            \n                Information de carte bancaire            \n\n                            \n                    \n                    \n					Paiement sécurisé par SSL.				\n                \n                            \n                \n                    \n                        Numéro de la carte                        *\n                        \n                        \n                    \n                    \n                \n            \n\n            \n                \n                    \n                        CVC                        *\n                        \n                    \n                    \n                \n            \n\n            \n                \n                    Nom du propriétaire                    *\n                    \n                \n                \n            \n\n            \n            \n                \n                    \n                        Date d’expiration                        *\n                        \n                    \n\n                    \n                \n            \n                    \n        	\n			\n				\n			Total du don :		\n		\n			5\,00€		\n			 \n		\n	\n		\n		\n		\n	\n		\n	\n	\n\n				\n\n			Votre soutien est crucial pour faire de nos événements un succès. \nRejoignez-nous en donnant selon votre générosité ! \nPARTICIPATION LIBRE
URL:https://lelieuditrestaurant.com/evenement/a-quoi-sert-marx-aujourdhui-debat-avec-roger-martelli-isabelle-garo-et-samy-johsua/
LOCATION:Le Lieu-dit\, 6 rue sorbier\, Paris\, 75020\, France
CATEGORIES:Rencontres littéraires / débats
ATTACH;FMTTYPE=image/png:https://lelieuditrestaurant.com/wp-content/uploads/2024/04/Capture-decran-2024-04-08-a-10.36.52.png
END:VEVENT
BEGIN:VEVENT
DTSTART;TZID=Europe/Paris:20120123T190000
DTEND;TZID=Europe/Paris:20120123T200000
DTSTAMP:20260420T051348
CREATED:20240403T093104Z
LAST-MODIFIED:20240403T093104Z
UID:1694-1327345200-1327348800@lelieuditrestaurant.com
SUMMARY:Rencontre avec Frédéric Lordon : la « dé-démocratisation » néolibérale\, la « crise » de la dette\, l’Europe et le principe de souveraineté
DESCRIPTION:Rencontre autour de : \n« Nous assistons à l’écroulement d’un monde\, des forces immenses sont sur le point d’être déchaînées »\, entretien exclusif publié dans RdL\, la Revue des Livres (n° 3\, janv.-fév. 2012) \net de \nLa crise de trop. Reconstruction d’un monde failli (Fayard) \nCapitalisme\, désir et servitude. Marx et Spinoza (La Fabrique) \nD’un retournement l’autre. Comédie sérieuse sur la crise financière. Enquatre actes\, et en alexandrins (Seuil) \nL’intérêt souverain. Essai d’anthropologie économique (La Découverte) \n« On peut\, et c’est mon cas\, trouver préférables les projets de dépassement des actuelles nations puisque\, sous les bons agencements institutionnels\, ils augmentent les puissances individuelles et étendent les chances de paix. Mais s’il n’y a à choisir qu’entre\, d’une part des agencements générateurs de violence économique et négateurs de la souveraineté politique\, et d’autre part les solutions nationales\, alors pour ma part je n’hésite pas un seul instant. Et tout ceci à la condition de voir au moins que les entreprises de « dépassement » ne sont finalement jamais que des projets de reconstruction de nation mais à une échelle étendue. Pour peu qu’on se soit donné comme boussole absolue le principe de souveraineté\, c’est-à-dire avoir admis sa clôture intrinsèque\, on peut nommer nation tout ensemble se proposant de le déployer et\, partant\, mieux se faire à l’idée que la « nation » ainsi redéfinie est un principe indépassable\, même s’il est toujours possible à ceux qui en ont le loisir d’en penser le point asymptotique : la nation-monde – mais alors à la condition de ne plus prétendre faire de la politique dans la conjoncture présente. » \n(Frédéric Lordon in RdL\, la Revue des Livres\, n° 3\, janv.-fév. 2012) \nRejoignez-nous en donnant selon votre générosité !\n	\n					\n				\n				\n					\n					\n				\n\n					\n	\n	\n	\n	\n			\n		\n				\n			\n								Montant du don :\n				\n				€			\n		\n		5\,00€3\,00€7\,00€Montant personnalisé\n	\n				Sélectionnez un moyen de paiement			\n			\n		\n\n		\n						\n										\n							\n							 Stripe - Carte de crédit\n						\n												\n							\n							 PayPal\n						\n												\n							\n							 Don de Test\n						\n									\n					\n			\n\n	\n	\n\n			\n		\n			Informations personnelles		\n\n		\n        \n            \n                Prénom                                    *\n                                            \n            \n         \n\n        \n            \n                Nom                                    *\n                                            \n\n            \n         \n\n        \n                \n            \n                Adresse e-mail                                    *\n                                                \n            \n\n         \n\n        \n					\n	\n        \n            \n                Information de carte bancaire            \n\n                            \n                    \n                    \n					Paiement sécurisé par SSL.				\n                \n                            \n                \n                    \n                        Numéro de la carte                        *\n                        \n                        \n                    \n                    \n                \n            \n\n            \n                \n                    \n                        CVC                        *\n                        \n                    \n                    \n                \n            \n\n            \n                \n                    Nom du propriétaire                    *\n                    \n                \n                \n            \n\n            \n            \n                \n                    \n                        Date d’expiration                        *\n                        \n                    \n\n                    \n                \n            \n                    \n        	\n			\n				\n			Total du don :		\n		\n			5\,00€		\n			 \n		\n	\n		\n		\n		\n	\n		\n	\n	\n\n				\n\n			Votre soutien est crucial pour faire de nos événements un succès. \nRejoignez-nous en donnant selon votre générosité ! \nPARTICIPATION LIBRE
URL:https://lelieuditrestaurant.com/evenement/rencontre-avec-frederic-lordon-la-de-democratisation-neoliberale-la-crise-de-la-dette-leurope-et-le-principe-de-souverainete/
LOCATION:Le Lieu-dit\, 6 rue sorbier\, Paris\, 75020\, France
CATEGORIES:Rencontres littéraires / débats
ATTACH;FMTTYPE=image/png:https://lelieuditrestaurant.com/wp-content/uploads/2024/04/Capture-decran-2024-04-02-a-16.58.35.png
END:VEVENT
BEGIN:VEVENT
DTSTART;TZID=Europe/Paris:20120131T190000
DTEND;TZID=Europe/Paris:20120131T210000
DTSTAMP:20260420T051348
CREATED:20240403T093925Z
LAST-MODIFIED:20240403T094127Z
UID:1702-1328036400-1328043600@lelieuditrestaurant.com
SUMMARY:Débat avec Laurent Jeanpierre & Luc Boltanski / Avis de recherche ! La gouvernementalité socialiste
DESCRIPTION:Première soirée-débat \nle mardi 31 janvier 2012 de 19h à 21h \navec Laurent Jeanpierre et Luc Boltanski \nAvis de recherche !La gouvernementalité socialiste \nDans une formule provocatrice\, Michel Foucault estimait « qu’il n’y a pas de gouvernementalité socialiste autonome » ; il en concluait que cette gouvernementalité\, « il faut l’inventer ». Y a-t-il un art socialiste de gouverner ? Comment penser ensemble l’émancipation socialiste et les impératifs de l’organisation ? Le socialisme ne signifie-t-il pas\, par essence\, l’extinction de la politique et des rapports de pouvoir ? Ou\, à l’inverse\, la tradition socialiste\, de la Commune de Paris à Porto Alegre\, de Flora Tristan à Evo Morales\, n’est-elle pas riche de réflexions et pratiques autour de nouvelles manières de conduire les hommes – jusque dans ses échecs les plus notables ?Réinterroger la réalité et la possibilité d’une politique du socialisme qui ne soient ni celle de la bureaucratie d’État ni celle d’un libéralisme tempéré\, telle est l’ambition de ce séminaire qui se tiendra au Lieu-Dit\, de janvier à juin 2012. Avec des historiens\, sociologues\, militants\, philosophes ou économistes\, le public est invité à échanger librement sur les questions suivantes : une gouvernementalité socialiste est-elle possible ? Et si oui\, à quoi pourrait-elle bien ressembler ?Au-delà de la campagne électorale qui battra son plein\, dans un contexte de crise globale historique et de renouvellement des formes de mobilisation sociale\, ces soirées-débats seront l’occasion d’aller plus loin que la critique du néolibéralisme\, en (re)découvrant collectivement les réalités et les virtualités du socialisme et de sa politique. \nCalendrier 2012 (les mardis de 19h à 21h au Lieu-Dit) \n\n31 janvier : Laurent Jeanpierre & Luc Boltanski\n14 février : Michelle Riot-Sarcey & Samuel Hayat\n6 mars : Yves Cohen\n20 mars : Pierre Dardot & Christian Laval\n3 avril : Yves Citton & Frédéric Lordon\nmai-juin (dates à préciser) : séance(s) de débats entre militants sur les modes d’organisation (collectifs\, mouvements\, partis\, syndicats\, etc.)\n\nCertains textes seront disponibles en ligne sur le site du Lieu-Dit \nRejoignez-nous en donnant selon votre générosité !\n	\n					\n				\n				\n					\n					\n				\n\n					\n	\n	\n	\n	\n			\n		\n				\n			\n								Montant du don :\n				\n				€			\n		\n		5\,00€3\,00€7\,00€Montant personnalisé\n	\n				Sélectionnez un moyen de paiement			\n			\n		\n\n		\n						\n										\n							\n							 Stripe - Carte de crédit\n						\n												\n							\n							 PayPal\n						\n												\n							\n							 Don de Test\n						\n									\n					\n			\n\n	\n	\n\n			\n		\n			Informations personnelles		\n\n		\n        \n            \n                Prénom                                    *\n                                            \n            \n         \n\n        \n            \n                Nom                                    *\n                                            \n\n            \n         \n\n        \n                \n            \n                Adresse e-mail                                    *\n                                                \n            \n\n         \n\n        \n					\n	\n        \n            \n                Information de carte bancaire            \n\n                            \n                    \n                    \n					Paiement sécurisé par SSL.				\n                \n                            \n                \n                    \n                        Numéro de la carte                        *\n                        \n                        \n                    \n                    \n                \n            \n\n            \n                \n                    \n                        CVC                        *\n                        \n                    \n                    \n                \n            \n\n            \n                \n                    Nom du propriétaire                    *\n                    \n                \n                \n            \n\n            \n            \n                \n                    \n                        Date d’expiration                        *\n                        \n                    \n\n                    \n                \n            \n                    \n        	\n			\n				\n			Total du don :		\n		\n			5\,00€		\n			 \n		\n	\n		\n		\n		\n	\n		\n	\n	\n\n				\n\n			Votre soutien est crucial pour faire de nos événements un succès. \nRejoignez-nous en donnant selon votre générosité ! \nPARTICIPATION LIBRE
URL:https://lelieuditrestaurant.com/evenement/debat-avec-laurent-jeanpierre-luc-boltanski-avis-de-recherche-la-gouvernementalite-socialiste/
LOCATION:Le Lieu-dit\, 6 rue sorbier\, Paris\, 75020\, France
CATEGORIES:Rencontres littéraires / débats
END:VEVENT
END:VCALENDAR