BEGIN:VCALENDAR
VERSION:2.0
PRODID:-// - ECPv6.5.0//NONSGML v1.0//EN
CALSCALE:GREGORIAN
METHOD:PUBLISH
X-ORIGINAL-URL:https://lelieuditrestaurant.com
X-WR-CALDESC:évènements pour 
REFRESH-INTERVAL;VALUE=DURATION:PT1H
X-Robots-Tag:noindex
X-PUBLISHED-TTL:PT1H
BEGIN:VTIMEZONE
TZID:Europe/Paris
BEGIN:DAYLIGHT
TZOFFSETFROM:+0100
TZOFFSETTO:+0200
TZNAME:CEST
DTSTART:20120325T010000
END:DAYLIGHT
BEGIN:STANDARD
TZOFFSETFROM:+0200
TZOFFSETTO:+0100
TZNAME:CET
DTSTART:20121028T010000
END:STANDARD
END:VTIMEZONE
BEGIN:VEVENT
DTSTART;TZID=Europe/Paris:20120201T190000
DTEND;TZID=Europe/Paris:20120201T210000
DTSTAMP:20260420T034231
CREATED:20240403T093653Z
LAST-MODIFIED:20240403T093653Z
UID:1700-1328122800-1328130000@lelieuditrestaurant.com
SUMMARY:Débat avec Roger Martelli / Europe : la démocratie en danger
DESCRIPTION:Europe : la démocratie en danger \nSur fond de crises\, de récession et chômage\, les passages en force se multiplient au sein de l’Union européenne. Le projet de nouveau traité\, la « règle d’or »\, le rôle accru de la Cour de justice etc.. renforcent encore l’autoritarisme du Conseil européen\, met les peuples sous tutelle économique et politique.Si ce traité s’applique on peut s’attendre a un déluge de privatisations\, licenciements de fonctionnaires\, coupes drastiques dans les budgets de services publiques\,\,\, !!! \nOn assiste dans le même temps à une remontée inquiétante des nationalismes dans la plupart des pays\, comme on vient de le voir\, par exemple\, avec l’adoption de la nouvelle constitution hongroise. \nPeut-on encore parler de « démocratie » en Europe ? \nPouvons nous et comment inverser l’ordre des choses ? \nLa FASE vous invite à venir en débattre avec Roger Martelli (historien\, co-directeur de la revue Regards et co-auteur des notes Europe de la Fondation Copernic). \nMercredi 1er février 2012 de 19H à 21H au Lieu-dit\, 6 rue Sorbier\, 75020 Paris(Métro Ménilmontant ou Gambetta) \nRejoignez-nous en donnant selon votre générosité !\n	\n					\n				\n				\n					\n					\n				\n\n					\n	\n	\n	\n	\n			\n		\n				\n			\n								Montant du don :\n				\n				€			\n		\n		5\,00€3\,00€7\,00€Montant personnalisé\n	\n				Sélectionnez un moyen de paiement			\n			\n		\n\n		\n						\n										\n							\n							 Stripe - Carte de crédit\n						\n												\n							\n							 PayPal\n						\n												\n							\n							 Don de Test\n						\n									\n					\n			\n\n	\n	\n\n			\n		\n			Informations personnelles		\n\n		\n        \n            \n                Prénom                                    *\n                                            \n            \n         \n\n        \n            \n                Nom                                    *\n                                            \n\n            \n         \n\n        \n                \n            \n                Adresse e-mail                                    *\n                                                \n            \n\n         \n\n        \n					\n	\n        \n            \n                Information de carte bancaire            \n\n                            \n                    \n                    \n					Paiement sécurisé par SSL.				\n                \n                            \n                \n                    \n                        Numéro de la carte                        *\n                        \n                        \n                    \n                    \n                \n            \n\n            \n                \n                    \n                        CVC                        *\n                        \n                    \n                    \n                \n            \n\n            \n                \n                    Nom du propriétaire                    *\n                    \n                \n                \n            \n\n            \n            \n                \n                    \n                        Date d’expiration                        *\n                        \n                    \n\n                    \n                \n            \n                    \n        	\n			\n				\n			Total du don :		\n		\n			5\,00€		\n			 \n		\n	\n		\n		\n		\n	\n		\n	\n	\n\n				\n\n			Votre soutien est crucial pour faire de nos événements un succès. \nRejoignez-nous en donnant selon votre générosité ! \nPARTICIPATION LIBRE
URL:https://lelieuditrestaurant.com/evenement/debat-avec-roger-martelli-europe-la-democratie-en-danger/
LOCATION:Le Lieu-dit\, 6 rue sorbier\, Paris\, 75020\, France
CATEGORIES:Rencontres littéraires / débats
END:VEVENT
BEGIN:VEVENT
DTSTART;TZID=Europe/Paris:20120202T190000
DTEND;TZID=Europe/Paris:20120202T200000
DTSTAMP:20260420T034231
CREATED:20240403T094357Z
LAST-MODIFIED:20240403T094357Z
UID:1707-1328209200-1328212800@lelieuditrestaurant.com
SUMMARY:Débat avec Pierre Tevanian autour de son dernier ouvrage Dévoilements
DESCRIPTION:Du hijab à la burqa : les dessous d’une obsession française \nMars 2004 : loi sur les signes ostensibles\, interdisant le port du foulard à l’école publique. Septembre 2010 : loi anti-burqa. Avril 2011 : offensive de Luc Chatel contre les mères voilées accompagnatrices de sorties scolaires ; « débat sur la laïcité » et « 26 propositions » de l’UMP légalisant notamment la discrimination à l’embauche contre les femmes portant le foulard\, y compris dans le secteur privé… \nDepuis près de dix ans\, les cheveux des femmes musulmanes sont devenus ce qu’il est convenu d’appeler un enjeu politique majeur\, et leur dévoilement fait désormais partie des priorités les plus impérieuses. C’est de ce dévoilement forcé\, et de son incroyable violence\, qu’il est question ce livre\, mais pas seulement… Car ce que ne soupçonnent pas les chasseurs de hijab\, de niqab ou de burqa\, c’est qu’au moment même où ils s’évertuent\, avec plus ou moins de bonheur\, à dévoiler les femmes musulmanes\, ils accomplissent\, de manière beaucoup plus intégrale et obscène\, leur propre dévoilement. C’est un certain féminisme\, un certain laïcisme\, mais aussi une certaine idée de la République et de son école\, et enfin une certaine idée de l’intellectuel et de sa mission\, qui apparaissent\, à l’occasion de « ces affaires de voiles »\, dans leur effrayante nudité – autoritariste\, raciste\, sexiste.http://www.editionslibertalia.com/Devoilements.html \nL’auteur / Pierre Tevanian \nCoanimateur du site http://www.lmsi.net/ \, professeur de philosophie à Drancy (93)\, Pierre Tevanian a publié de nombreux ouvrages dont Le Ministère de la peur (L’Esprit frappeur\, 2004)\, La République du mépris (La Découverte\, 2007)\, La Mécanique raciste (Dilecta\, 2008). Il a coordonné avec Ismahane Chouder et Malika Latrèche le recueil Les Filles voilées parlent (La Fabrique\, 2008). Avec Sylvie Tissot\, aux éditions Libertalia\, il a publié l’ouvrage Les Mots sont importants\, (2010). \nRejoignez-nous en donnant selon votre générosité !\n	\n					\n				\n				\n					\n					\n				\n\n					\n	\n	\n	\n	\n			\n		\n				\n			\n								Montant du don :\n				\n				€			\n		\n		5\,00€3\,00€7\,00€Montant personnalisé\n	\n				Sélectionnez un moyen de paiement			\n			\n		\n\n		\n						\n										\n							\n							 Stripe - Carte de crédit\n						\n												\n							\n							 PayPal\n						\n												\n							\n							 Don de Test\n						\n									\n					\n			\n\n	\n	\n\n			\n		\n			Informations personnelles		\n\n		\n        \n            \n                Prénom                                    *\n                                            \n            \n         \n\n        \n            \n                Nom                                    *\n                                            \n\n            \n         \n\n        \n                \n            \n                Adresse e-mail                                    *\n                                                \n            \n\n         \n\n        \n					\n	\n        \n            \n                Information de carte bancaire            \n\n                            \n                    \n                    \n					Paiement sécurisé par SSL.				\n                \n                            \n                \n                    \n                        Numéro de la carte                        *\n                        \n                        \n                    \n                    \n                \n            \n\n            \n                \n                    \n                        CVC                        *\n                        \n                    \n                    \n                \n            \n\n            \n                \n                    Nom du propriétaire                    *\n                    \n                \n                \n            \n\n            \n            \n                \n                    \n                        Date d’expiration                        *\n                        \n                    \n\n                    \n                \n            \n                    \n        	\n			\n				\n			Total du don :		\n		\n			5\,00€		\n			 \n		\n	\n		\n		\n		\n	\n		\n	\n	\n\n				\n\n			Votre soutien est crucial pour faire de nos événements un succès. \nRejoignez-nous en donnant selon votre générosité ! \nPARTICIPATION LIBRE
URL:https://lelieuditrestaurant.com/evenement/debat-avec-pierre-tevanian-autour-de-son-dernier-ouvrage-devoilements/
LOCATION:Le Lieu-dit\, 6 rue sorbier\, Paris\, 75020\, France
CATEGORIES:Rencontres littéraires / débats
END:VEVENT
BEGIN:VEVENT
DTSTART;TZID=Europe/Paris:20120205T183000
DTEND;TZID=Europe/Paris:20120205T183000
DTSTAMP:20260420T034231
CREATED:20240417T130303Z
LAST-MODIFIED:20240417T130303Z
UID:4001-1328466600-1328466600@lelieuditrestaurant.com
SUMMARY:ATTENTION ! Annulation de la rencontre/discussion avec l’équipe artistique de "Déjà là" (théatre de la colline)
DESCRIPTION:Rejoignez-nous en donnant selon votre générosité !\n	\n					\n				\n				\n					\n					\n				\n\n					\n	\n	\n	\n	\n			\n		\n				\n			\n								Montant du don :\n				\n				€			\n		\n		5\,00€3\,00€7\,00€Montant personnalisé\n	\n				Sélectionnez un moyen de paiement			\n			\n		\n\n		\n						\n										\n							\n							 Stripe - Carte de crédit\n						\n												\n							\n							 PayPal\n						\n												\n							\n							 Don de Test\n						\n									\n					\n			\n\n	\n	\n\n			\n		\n			Informations personnelles		\n\n		\n        \n            \n                Prénom                                    *\n                                            \n            \n         \n\n        \n            \n                Nom                                    *\n                                            \n\n            \n         \n\n        \n                \n            \n                Adresse e-mail                                    *\n                                                \n            \n\n         \n\n        \n					\n	\n        \n            \n                Information de carte bancaire            \n\n                            \n                    \n                    \n					Paiement sécurisé par SSL.				\n                \n                            \n                \n                    \n                        Numéro de la carte                        *\n                        \n                        \n                    \n                    \n                \n            \n\n            \n                \n                    \n                        CVC                        *\n                        \n                    \n                    \n                \n            \n\n            \n                \n                    Nom du propriétaire                    *\n                    \n                \n                \n            \n\n            \n            \n                \n                    \n                        Date d’expiration                        *\n                        \n                    \n\n                    \n                \n            \n                    \n        	\n			\n				\n			Total du don :		\n		\n			5\,00€		\n			 \n		\n	\n		\n		\n		\n	\n		\n	\n	\n\n				\n\n			Votre soutien est crucial pour faire de nos événements un succès. \nRejoignez-nous en donnant selon votre générosité ! \nPARTICIPATION LIBRE
URL:https://lelieuditrestaurant.com/evenement/attention-annulation-de-la-rencontre-discussion-avec-lequipe-artistique-de-deja-la-theatre-de-la-colline/
LOCATION:Le Lieu-dit\, 6 rue sorbier\, Paris\, 75020\, France
CATEGORIES:Rencontres littéraires / débats,Spectacles / Concert
END:VEVENT
BEGIN:VEVENT
DTSTART;TZID=Europe/Paris:20120207T190000
DTEND;TZID=Europe/Paris:20120207T210000
DTSTAMP:20260420T034231
CREATED:20240403T094948Z
LAST-MODIFIED:20240403T095137Z
UID:1709-1328641200-1328648400@lelieuditrestaurant.com
SUMMARY:Séminaire de lecture autour d’Alain Badiou / proposé par la Revue des Livres - RdL
DESCRIPTION:Le Réveil de l’histoire. Circonstances 6 (Lignes) \n« Dans ce sixième volume de la série « Circonstances »\, Alain Badiou examine en philosophe les derniers bouleversements du monde : révolutions arabes (Tunisie\, Égypte)\, révoltes européennes (Espagne\, Grande-Bretagne) et crise financière généralisée. C’est pour lui l’occasion de mettre à l’épreuve ses théories de l’événement et de l’Idée communiste. Prenant le contre-pied du motif de la fin de l’Histoire qui a accompagné la chute du mur de Berlin\, Alain Badiou réaffirme le caractère toujours neuf et enthousiasmant de la volonté d’émancipation dont témoigne exemplairement l’actuel « temps des émeutes » ». (Présentation de l’éditeur.) \nCette séance sera pour nous l’occasion de revenir sur les révoltes récentes et de nous interroger sur la prise intellectuelle et politique que les thèses d’Alain Badiou permettent\, ou pas\, d’avoir sur la situation contemporaine. \n(Le séminaire de lecture de la RdL réunit les membres du collectif éditorial de la revue et ses lecteurs pour un échange de vues autour de courts essais qui constituent des contributions d’importance aux débats contemporains.) \nhttp://www.revuedeslivres.fr \nRejoignez-nous en donnant selon votre générosité !\n	\n					\n				\n				\n					\n					\n				\n\n					\n	\n	\n	\n	\n			\n		\n				\n			\n								Montant du don :\n				\n				€			\n		\n		5\,00€3\,00€7\,00€Montant personnalisé\n	\n				Sélectionnez un moyen de paiement			\n			\n		\n\n		\n						\n										\n							\n							 Stripe - Carte de crédit\n						\n												\n							\n							 PayPal\n						\n												\n							\n							 Don de Test\n						\n									\n					\n			\n\n	\n	\n\n			\n		\n			Informations personnelles		\n\n		\n        \n            \n                Prénom                                    *\n                                            \n            \n         \n\n        \n            \n                Nom                                    *\n                                            \n\n            \n         \n\n        \n                \n            \n                Adresse e-mail                                    *\n                                                \n            \n\n         \n\n        \n					\n	\n        \n            \n                Information de carte bancaire            \n\n                            \n                    \n                    \n					Paiement sécurisé par SSL.				\n                \n                            \n                \n                    \n                        Numéro de la carte                        *\n                        \n                        \n                    \n                    \n                \n            \n\n            \n                \n                    \n                        CVC                        *\n                        \n                    \n                    \n                \n            \n\n            \n                \n                    Nom du propriétaire                    *\n                    \n                \n                \n            \n\n            \n            \n                \n                    \n                        Date d’expiration                        *\n                        \n                    \n\n                    \n                \n            \n                    \n        	\n			\n				\n			Total du don :		\n		\n			5\,00€		\n			 \n		\n	\n		\n		\n		\n	\n		\n	\n	\n\n				\n\n			Votre soutien est crucial pour faire de nos événements un succès. \nRejoignez-nous en donnant selon votre générosité ! \nPARTICIPATION LIBRE
URL:https://lelieuditrestaurant.com/evenement/seminaire-de-lecture-autour-dalain-badiou-propose-par-la-revue-des-livres-rdl/
LOCATION:Le Lieu-dit\, 6 rue sorbier\, Paris\, 75020\, France
CATEGORIES:Rencontres littéraires / débats
ATTACH;FMTTYPE=image/png:https://lelieuditrestaurant.com/wp-content/uploads/2024/04/Capture-decran-2024-04-02-a-16.58.35.png
END:VEVENT
BEGIN:VEVENT
DTSTART;TZID=Europe/Paris:20120214T190000
DTEND;TZID=Europe/Paris:20120214T210000
DTSTAMP:20260420T034231
CREATED:20240403T095345Z
LAST-MODIFIED:20240403T095540Z
UID:1711-1329246000-1329253200@lelieuditrestaurant.com
SUMMARY:Deuxième soirée-débat avec Samuel Hayat et Michèle Riot-Sarcey sur les expériences socialistes du xixe siècle (1848 et la Commune)
DESCRIPTION:Avis de recherche ! \nLa gouvernementalité socialiste \nLe texte de présentation : \n\n\n  \nDeuxième soirée-débat \n\navec Samuel Hayat et Michèle Riot-Sarcey \nsur les expériences socialistes du xixe siècle(1848 et la Commune) \nDans une formule provocatrice\, Michel Foucault estimait « qu’il n’y a pas de gouvernementalité socialiste autonome » ; il en concluait que cette gouvernementalité\, « il faut l’inventer ». Y a-t-il un art socialiste de gouverner ? Comment penser ensemble l’émancipation socialiste et les impératifs de l’organisation ? Le socialisme ne signifie-t-il pas\, par essence\, l’extinction de la politique et des rapports de pouvoir ? Ou\, à l’inverse\, la tradition socialiste\, de la Commune de Paris à Porto Alegre\, de Flora Tristan à Evo Morales\, n’est-elle pas riche de réflexions et pratiques autour de nouvelles manières de conduire les hommes – jusque dans ses échecs les plus notables ? \nRéinterroger la réalité et la possibilité d’une politique du socialisme qui ne soient ni celle de la bureaucratie d’État ni celle d’un libéralisme tempéré\, telle est l’ambition de ce séminaire qui se tiendra au Lieu-Dit\, de janvier à juin 2012. Avec des historiens\, sociologues\, militants\, philosophes ou économistes\, le public est invité à échanger librement sur les questions suivantes : une gouvernementalité socialiste est-elle possible ? Et si oui\, à quoi pourrait-elle bien ressembler ? \nAu-delà de la campagne électorale qui battra son plein\, dans un contexte de crise globale historique et de renouvellement des formes de mobilisation sociale\, ces soirées-débats seront l’occasion d’aller plus loin que la critique du néolibéralisme\, en (re)découvrant collectivement les réalités et les virtualités du socialisme et de sa politique. \nCalendrier 2012 (les mardis de 19h à 21h au Lieu-Dit) \n\n31 janvier : Laurent Jeanpierre & Luc Boltanski\n14 février : Samuel Hayat & Michèle Riot-Sarcey\n6 mars : Yves Cohen & Paolo Napoli\n20 mars : Pierre Dardot & Christian Laval\n3 avril : Yves Citton & Frédéric Lordon\n15 mai : table-ronde militante sur les modes passés et présents d’organisation et d’action collective.\n\nCONTACTS : \nIsabelle Bruno izabruno@gmail.com \nArnault Skornicki askornicki@yahoo.f \nRejoignez-nous en donnant selon votre générosité !\n	\n					\n				\n				\n					\n					\n				\n\n					\n	\n	\n	\n	\n			\n		\n				\n			\n								Montant du don :\n				\n				€			\n		\n		5\,00€3\,00€7\,00€Montant personnalisé\n	\n				Sélectionnez un moyen de paiement			\n			\n		\n\n		\n						\n										\n							\n							 Stripe - Carte de crédit\n						\n												\n							\n							 PayPal\n						\n												\n							\n							 Don de Test\n						\n									\n					\n			\n\n	\n	\n\n			\n		\n			Informations personnelles		\n\n		\n        \n            \n                Prénom                                    *\n                                            \n            \n         \n\n        \n            \n                Nom                                    *\n                                            \n\n            \n         \n\n        \n                \n            \n                Adresse e-mail                                    *\n                                                \n            \n\n         \n\n        \n					\n	\n        \n            \n                Information de carte bancaire            \n\n                            \n                    \n                    \n					Paiement sécurisé par SSL.				\n                \n                            \n                \n                    \n                        Numéro de la carte                        *\n                        \n                        \n                    \n                    \n                \n            \n\n            \n                \n                    \n                        CVC                        *\n                        \n                    \n                    \n                \n            \n\n            \n                \n                    Nom du propriétaire                    *\n                    \n                \n                \n            \n\n            \n            \n                \n                    \n                        Date d’expiration                        *\n                        \n                    \n\n                    \n                \n            \n                    \n        	\n			\n				\n			Total du don :		\n		\n			5\,00€		\n			 \n		\n	\n		\n		\n		\n	\n		\n	\n	\n\n				\n\n			Votre soutien est crucial pour faire de nos événements un succès. \nRejoignez-nous en donnant selon votre générosité ! \nPARTICIPATION LIBRE
URL:https://lelieuditrestaurant.com/evenement/deuxieme-soiree-debat-avec-samuel-hayat-et-michele-riot-sarcey-sur-les-experiences-socialistes-du-xixe-siecle-1848-et-la-commune/
LOCATION:Le Lieu-dit\, 6 rue sorbier\, Paris\, 75020\, France
CATEGORIES:Rencontres littéraires / débats
END:VEVENT
BEGIN:VEVENT
DTSTART;TZID=Europe/Paris:20120223T193000
DTEND;TZID=Europe/Paris:20120223T213000
DTSTAMP:20260420T034231
CREATED:20240403T095933Z
LAST-MODIFIED:20240405T153848Z
UID:1715-1330025400-1330032600@lelieuditrestaurant.com
SUMMARY:ATTENTION : ANNULATION de la rencontre/débat avec Jin Haritaworn
DESCRIPTION:La rencontre/débat avec Le Jin Haritaworn\, initialement programmée pour ce jeudi 23 février a été annulée. Nous en somme désolé ! \nVoici le communiquée des organisateurs : \nAnnulation de la rencontre débat avec Jin Haritaworn \nJin Haritaworn ne pourra finalement pas être à Paris aux dates prévues pour la rencontre-débat sur l’impérialisme gay\, le jeudi 23 février prochain\, au Lieu Dit\, car il entre en période de recherche professionnelle et doit passer une série d’entretiens. \nNous remercions toutes les personnes qui nous ont soutenu.e.s\, qui comptaient venir à cette rencontre ou qui en ont fait circuler le tract d’appel. Le Front du 20 mars regrette de devoir annuler la rencontre avec Jin Haritaworn\, mais si cette période lui permet de trouver un poste académique\, nous nous en féliciterons\, tant l’université est un espace blanc hostile aux non-Blanc·he·s queers ou féministes. \nLe Front du 20 mars continue de promouvoir et de mettre en circulation des élaborations menées ailleurs qu’en France et au-delà de l’Europe\, qui critiquent les modes d’action et d’organisation LGBT et féministes occidentaux hégémoniques. \nDans cet esprit\, nous travaillons à la préparation d’une rencontre à la fin du mois de mars avec Haneen Maikey\, membre fondatrice d’Al-Qaws pour la diversité sexuelle et de genre dans la société palestinienne et militante active de la campagne Palestinian Queers for BDS. \nRejoignez-nous en donnant selon votre générosité !\n	\n					\n				\n				\n					\n					\n				\n\n					\n	\n	\n	\n	\n			\n		\n				\n			\n								Montant du don :\n				\n				€			\n		\n		5\,00€3\,00€7\,00€Montant personnalisé\n	\n				Sélectionnez un moyen de paiement			\n			\n		\n\n		\n						\n										\n							\n							 Stripe - Carte de crédit\n						\n												\n							\n							 PayPal\n						\n												\n							\n							 Don de Test\n						\n									\n					\n			\n\n	\n	\n\n			\n		\n			Informations personnelles		\n\n		\n        \n            \n                Prénom                                    *\n                                            \n            \n         \n\n        \n            \n                Nom                                    *\n                                            \n\n            \n         \n\n        \n                \n            \n                Adresse e-mail                                    *\n                                                \n            \n\n         \n\n        \n					\n	\n        \n            \n                Information de carte bancaire            \n\n                            \n                    \n                    \n					Paiement sécurisé par SSL.				\n                \n                            \n                \n                    \n                        Numéro de la carte                        *\n                        \n                        \n                    \n                    \n                \n            \n\n            \n                \n                    \n                        CVC                        *\n                        \n                    \n                    \n                \n            \n\n            \n                \n                    Nom du propriétaire                    *\n                    \n                \n                \n            \n\n            \n            \n                \n                    \n                        Date d’expiration                        *\n                        \n                    \n\n                    \n                \n            \n                    \n        	\n			\n				\n			Total du don :		\n		\n			5\,00€		\n			 \n		\n	\n		\n		\n		\n	\n		\n	\n	\n\n				\n\n			Votre soutien est crucial pour faire de nos événements un succès. \nRejoignez-nous en donnant selon votre générosité ! \nPARTICIPATION LIBRE
URL:https://lelieuditrestaurant.com/evenement/attention-annulation-de-la-rencontre-debat-avec-jin-haritaworn/
LOCATION:Le Lieu-dit\, 6 rue sorbier\, Paris\, 75020\, France
CATEGORIES:Rencontres littéraires / débats
END:VEVENT
END:VCALENDAR