BEGIN:VCALENDAR
VERSION:2.0
PRODID:-// - ECPv6.5.0//NONSGML v1.0//EN
CALSCALE:GREGORIAN
METHOD:PUBLISH
X-ORIGINAL-URL:https://lelieuditrestaurant.com
X-WR-CALDESC:évènements pour 
REFRESH-INTERVAL;VALUE=DURATION:PT1H
X-Robots-Tag:noindex
X-PUBLISHED-TTL:PT1H
BEGIN:VTIMEZONE
TZID:Europe/Paris
BEGIN:DAYLIGHT
TZOFFSETFROM:+0100
TZOFFSETTO:+0200
TZNAME:CEST
DTSTART:20120325T010000
END:DAYLIGHT
BEGIN:STANDARD
TZOFFSETFROM:+0200
TZOFFSETTO:+0100
TZNAME:CET
DTSTART:20121028T010000
END:STANDARD
END:VTIMEZONE
BEGIN:VEVENT
DTSTART;TZID=Europe/Paris:20120510T193000
DTEND;TZID=Europe/Paris:20120510T203000
DTSTAMP:20260419T225047
CREATED:20240403T112018Z
LAST-MODIFIED:20240403T112239Z
UID:1763-1336678200-1336681800@lelieuditrestaurant.com
SUMMARY:Rencontre/débat avec Christine Delphy et Sabine Lambert autour de Questions féministes
DESCRIPTION:A l’occasion de la parution de Questions féministes\, les éditions Syllepse vous invitent à une rencontre-débat en présence de Christine Delphy et Sabine Lambert\, préfacière de l’ouvrage. \n1977. Alors que les titres de la presse féministe foisonnent\, paraît le premier numéro de Questions féministes\, une revue de réflexion et de combat pour penser l’oppression et la libération. \nLa réédition de l’intégralité des huits numéros de Questions féministes permet de rendre à nouveau disponibles des textes fondateurs mais introuvables de Colette Guillaumin\, Monique Wittig\, Monique Plaza\, Nicole Claude Mathieu\, Christine Delphy ou encore Emmanuèle de Lesseps. \nRejoignez-nous en donnant selon votre générosité !\n	\n					\n				\n				\n					\n					\n				\n\n					\n	\n	\n	\n	\n			\n		\n				\n			\n								Montant du don :\n				\n				€			\n		\n		5\,00€3\,00€7\,00€Montant personnalisé\n	\n				Sélectionnez un moyen de paiement			\n			\n		\n\n		\n						\n										\n							\n							 Stripe - Carte de crédit\n						\n												\n							\n							 PayPal\n						\n												\n							\n							 Don de Test\n						\n									\n					\n			\n\n	\n	\n\n			\n		\n			Informations personnelles		\n\n		\n        \n            \n                Prénom                                    *\n                                            \n            \n         \n\n        \n            \n                Nom                                    *\n                                            \n\n            \n         \n\n        \n                \n            \n                Adresse e-mail                                    *\n                                                \n            \n\n         \n\n        \n					\n	\n        \n            \n                Information de carte bancaire            \n\n                            \n                    \n                    \n					Paiement sécurisé par SSL.				\n                \n                            \n                \n                    \n                        Numéro de la carte                        *\n                        \n                        \n                    \n                    \n                \n            \n\n            \n                \n                    \n                        CVC                        *\n                        \n                    \n                    \n                \n            \n\n            \n                \n                    Nom du propriétaire                    *\n                    \n                \n                \n            \n\n            \n            \n                \n                    \n                        Date d’expiration                        *\n                        \n                    \n\n                    \n                \n            \n                    \n        	\n			\n				\n			Total du don :		\n		\n			5\,00€		\n			 \n		\n	\n		\n		\n		\n	\n		\n	\n	\n\n				\n\n			Votre soutien est crucial pour faire de nos événements un succès. \nRejoignez-nous en donnant selon votre générosité ! \nPARTICIPATION LIBRE
URL:https://lelieuditrestaurant.com/evenement/rencontre-debat-avec-christine-delphy-et-sabine-lambert-autour-de-questions-feministes/
LOCATION:Le Lieu-dit\, 6 rue sorbier\, Paris\, 75020\, France
CATEGORIES:Rencontres littéraires / débats
END:VEVENT
BEGIN:VEVENT
DTSTART;TZID=Europe/Paris:20120515T190000
DTEND;TZID=Europe/Paris:20120515T200000
DTSTAMP:20260419T225047
CREATED:20240403T112952Z
LAST-MODIFIED:20240403T112952Z
UID:1770-1337108400-1337112000@lelieuditrestaurant.com
SUMMARY:Avis de recherche ! La gouvernementalité socialiste
DESCRIPTION:Table-ronde militante sur les modes passés et présents d’organisation et d’action collective. \nDans une formule provocatrice\, Michel Foucault estimait « qu’il n’y a pas de gouvernementalité socialiste autonome » ; il en concluait que cette gouvernementalité\, « il faut l’inventer ». Y a-t-il un art socialiste de gouverner ? Comment penser ensemble l’émancipation socialiste et les impératifs de l’organisation ? Le socialisme ne signifie-t-il pas\, par essence\, l’extinction de la politique et des rapports de pouvoir ? Ou\, à l’inverse\, la tradition socialiste\, de la Commune de Paris à Porto Alegre\, de Flora Tristan à Evo Morales\, n’est-elle pas riche de réflexions et pratiques autour de nouvelles manières de conduire les hommes – jusque dans ses échecs les plus notables ? \nRéinterroger la réalité et la possibilité d’une politique du socialisme qui ne soient ni celle de la bureaucratie d’État ni celle d’un libéralisme tempéré\, telle est l’ambition de ce séminaire qui se tiendra au Lieu-Dit\, de janvier à juin 2012. Avec des historiens\, sociologues\, militants\, philosophes ou économistes\, le public est invité à échanger librement sur les questions suivantes : une gouvernementalité socialiste est-elle possible ? Et si oui\, à quoi pourrait-elle bien ressembler ? \nAu-delà de la campagne électorale qui battra son plein\, dans un contexte de crise globale historique et de renouvellement des formes de mobilisation sociale\, ces soirées-débats seront l’occasion d’aller plus loin que la critique du néolibéralisme\, en (re)découvrant collectivement les réalités et les virtualités du socialisme et de sa politique. \nUne « gouvernementalité socialiste » est-elle souhaitable ? \nDiscussion autour de l’expérience soviétique \nCalendrier 2012 (les mardis de 19h à 21h au Lieu-Dit) \n\n31 janvier : Laurent Jeanpierre & Luc Boltanski\n14 février : Samuel Hayat & Michèle Riot-Sarcey\n6 mars : Yves Cohen & Paolo Napoli\n20 mars : Pierre Dardot & Christian Laval\n3 avril : Yves Citton & Frédéric Lordon\n15 mai : table-ronde militante sur les modes passés et présents d’organisation et d’action collective.\n\nRejoignez-nous en donnant selon votre générosité !\n	\n					\n				\n				\n					\n					\n				\n\n					\n	\n	\n	\n	\n			\n		\n				\n			\n								Montant du don :\n				\n				€			\n		\n		5\,00€3\,00€7\,00€Montant personnalisé\n	\n				Sélectionnez un moyen de paiement			\n			\n		\n\n		\n						\n										\n							\n							 Stripe - Carte de crédit\n						\n												\n							\n							 PayPal\n						\n												\n							\n							 Don de Test\n						\n									\n					\n			\n\n	\n	\n\n			\n		\n			Informations personnelles		\n\n		\n        \n            \n                Prénom                                    *\n                                            \n            \n         \n\n        \n            \n                Nom                                    *\n                                            \n\n            \n         \n\n        \n                \n            \n                Adresse e-mail                                    *\n                                                \n            \n\n         \n\n        \n					\n	\n        \n            \n                Information de carte bancaire            \n\n                            \n                    \n                    \n					Paiement sécurisé par SSL.				\n                \n                            \n                \n                    \n                        Numéro de la carte                        *\n                        \n                        \n                    \n                    \n                \n            \n\n            \n                \n                    \n                        CVC                        *\n                        \n                    \n                    \n                \n            \n\n            \n                \n                    Nom du propriétaire                    *\n                    \n                \n                \n            \n\n            \n            \n                \n                    \n                        Date d’expiration                        *\n                        \n                    \n\n                    \n                \n            \n                    \n        	\n			\n				\n			Total du don :		\n		\n			5\,00€		\n			 \n		\n	\n		\n		\n		\n	\n		\n	\n	\n\n				\n\n			Votre soutien est crucial pour faire de nos événements un succès. \nRejoignez-nous en donnant selon votre générosité ! \nPARTICIPATION LIBRE
URL:https://lelieuditrestaurant.com/evenement/avis-de-recherche-la-gouvernementalite-socialiste/
LOCATION:Le Lieu-dit\, 6 rue sorbier\, Paris\, 75020\, France
CATEGORIES:Rencontres littéraires / débats
END:VEVENT
BEGIN:VEVENT
DTSTART;TZID=Europe/Paris:20120523T190000
DTEND;TZID=Europe/Paris:20120523T200000
DTSTAMP:20260419T225047
CREATED:20240403T143208Z
LAST-MODIFIED:20240403T143208Z
UID:1772-1337799600-1337803200@lelieuditrestaurant.com
SUMMARY:Séminaire de lecture\, avec Anne Clerval autour de «  Gentrification et droit à la ville. La lutte des classes dans l’espace urbain  »
DESCRIPTION:4e séance du séminaire de lecture de la RdL \nParis outragé\, Paris brisé\, Paris gentrifié… \nA l’occasion de la parution de la RdL n° 5 (mai-juin 2012) \nLe collectif éditorial de la RdL invite les lecteurs de la revue à participer à la prochaine séance de son séminaire de lecture\, avec Anne Clerval autour de \n«  Gentrification et droit à la ville. La lutte des classes dans l’espace urbain  » \nun entretien exclusif publié dans RdL\, la Revue des Livres (nº 5\, mai-juin 2012) \nCette nouvelle séance du séminaire de la RdL\, ouvert à toutes et tous\, sera consacrée à une discussion des analyses développées et des questions politiques soulevées par Anne Clerval dans son entretien. Comment décrire et comprendre les transformations majeures de l’espace urbain auxquelles nous assistons ? Quelle ville voulons-nous ? Quels contenus concrets donner aujourd’hui à l’affirmation d’un droit à la ville dans la perspective d’une politique démocratique radicale qui affirmerait la nécessité d’un contrôle collectif populaire sur l’espace urbain et le processus d’urbanisation ? \nEn association avec le Lieu-Dit et la librairie Le Monte-en-l’air \nRejoignez-nous en donnant selon votre générosité !\n	\n					\n				\n				\n					\n					\n				\n\n					\n	\n	\n	\n	\n			\n		\n				\n			\n								Montant du don :\n				\n				€			\n		\n		5\,00€3\,00€7\,00€Montant personnalisé\n	\n				Sélectionnez un moyen de paiement			\n			\n		\n\n		\n						\n										\n							\n							 Stripe - Carte de crédit\n						\n												\n							\n							 PayPal\n						\n												\n							\n							 Don de Test\n						\n									\n					\n			\n\n	\n	\n\n			\n		\n			Informations personnelles		\n\n		\n        \n            \n                Prénom                                    *\n                                            \n            \n         \n\n        \n            \n                Nom                                    *\n                                            \n\n            \n         \n\n        \n                \n            \n                Adresse e-mail                                    *\n                                                \n            \n\n         \n\n        \n					\n	\n        \n            \n                Information de carte bancaire            \n\n                            \n                    \n                    \n					Paiement sécurisé par SSL.				\n                \n                            \n                \n                    \n                        Numéro de la carte                        *\n                        \n                        \n                    \n                    \n                \n            \n\n            \n                \n                    \n                        CVC                        *\n                        \n                    \n                    \n                \n            \n\n            \n                \n                    Nom du propriétaire                    *\n                    \n                \n                \n            \n\n            \n            \n                \n                    \n                        Date d’expiration                        *\n                        \n                    \n\n                    \n                \n            \n                    \n        	\n			\n				\n			Total du don :		\n		\n			5\,00€		\n			 \n		\n	\n		\n		\n		\n	\n		\n	\n	\n\n				\n\n			Votre soutien est crucial pour faire de nos événements un succès. \nRejoignez-nous en donnant selon votre générosité ! \nPARTICIPATION LIBRE
URL:https://lelieuditrestaurant.com/evenement/seminaire-de-lecture-avec-anne-clerval-autour-de-gentrification-et-droit-a-la-ville-la-lutte-des-classes-dans-lespace-urbain/
LOCATION:Le Lieu-dit\, 6 rue sorbier\, Paris\, 75020\, France
CATEGORIES:Rencontres littéraires / débats
ATTACH;FMTTYPE=image/png:https://lelieuditrestaurant.com/wp-content/uploads/2024/04/Capture-decran-2024-04-02-a-16.58.35.png
END:VEVENT
BEGIN:VEVENT
DTSTART;TZID=Europe/Paris:20120530T190000
DTEND;TZID=Europe/Paris:20120530T200000
DTSTAMP:20260419T225047
CREATED:20240403T143429Z
LAST-MODIFIED:20240403T143452Z
UID:1774-1338404400-1338408000@lelieuditrestaurant.com
SUMMARY:Rencontre-discussion avec Bernard Friot « Le salaire\, révolutionnaire ? »
DESCRIPTION:Les rencontres de la RdL \nA l’occasion de la parution de la RdL n° 5 (mai-juin 2012) \nRencontre avec Bernard Friot autour de L’Enjeu du salaire \n(La Dispute\, 2012) \nDans L’Enjeu du salaire\, Bernard Friot affirme que nous ne parvenons plus à saisir le caractère révolutionnaire du salaire et des institutions qui lui sont liées\, la qualification personnelle et la cotisation. \nPour briser le chantage à l’emploi et à la dette\, et assurer un contrôle populaire sur l’économie et le travail\, il nous faudrait pourtant selon lui porter plus loin ces institutions : attribuer à chacun à sa majorité une qualification et donc un salaire\, et ainsi faire disparaître le marché du travail ; étendre la cotisation en créant une cotisation économique pour un financement de l’investissement sans crédit et donc sans dette. \nNous pourrions ainsi nous « libérer de la convention capitaliste du travail avec sa propriété lucrative\, son marché du travail et ses forces de travail\, ses marchandises à la valeur d’usage si discutable produites par des travailleurs soumis à la dictature du temps de travail et n’ayant aucune maîtrise des fins et des moyens de leur travail. » \nEn association avec le Lieu-Dit et la librairie L’Atelier \nRejoignez-nous en donnant selon votre générosité !\n	\n					\n				\n				\n					\n					\n				\n\n					\n	\n	\n	\n	\n			\n		\n				\n			\n								Montant du don :\n				\n				€			\n		\n		5\,00€3\,00€7\,00€Montant personnalisé\n	\n				Sélectionnez un moyen de paiement			\n			\n		\n\n		\n						\n										\n							\n							 Stripe - Carte de crédit\n						\n												\n							\n							 PayPal\n						\n												\n							\n							 Don de Test\n						\n									\n					\n			\n\n	\n	\n\n			\n		\n			Informations personnelles		\n\n		\n        \n            \n                Prénom                                    *\n                                            \n            \n         \n\n        \n            \n                Nom                                    *\n                                            \n\n            \n         \n\n        \n                \n            \n                Adresse e-mail                                    *\n                                                \n            \n\n         \n\n        \n					\n	\n        \n            \n                Information de carte bancaire            \n\n                            \n                    \n                    \n					Paiement sécurisé par SSL.				\n                \n                            \n                \n                    \n                        Numéro de la carte                        *\n                        \n                        \n                    \n                    \n                \n            \n\n            \n                \n                    \n                        CVC                        *\n                        \n                    \n                    \n                \n            \n\n            \n                \n                    Nom du propriétaire                    *\n                    \n                \n                \n            \n\n            \n            \n                \n                    \n                        Date d’expiration                        *\n                        \n                    \n\n                    \n                \n            \n                    \n        	\n			\n				\n			Total du don :		\n		\n			5\,00€		\n			 \n		\n	\n		\n		\n		\n	\n		\n	\n	\n\n				\n\n			Votre soutien est crucial pour faire de nos événements un succès. \nRejoignez-nous en donnant selon votre générosité ! \nPARTICIPATION LIBRE
URL:https://lelieuditrestaurant.com/evenement/rencontre-discussion-avec-bernard-friot-le-salaire-revolutionnaire/
LOCATION:Le Lieu-dit\, 6 rue sorbier\, Paris\, 75020\, France
CATEGORIES:Rencontres littéraires / débats
END:VEVENT
END:VCALENDAR