BEGIN:VCALENDAR
VERSION:2.0
PRODID:-// - ECPv6.5.0//NONSGML v1.0//EN
CALSCALE:GREGORIAN
METHOD:PUBLISH
X-ORIGINAL-URL:https://lelieuditrestaurant.com
X-WR-CALDESC:évènements pour 
REFRESH-INTERVAL;VALUE=DURATION:PT1H
X-Robots-Tag:noindex
X-PUBLISHED-TTL:PT1H
BEGIN:VTIMEZONE
TZID:Europe/Paris
BEGIN:DAYLIGHT
TZOFFSETFROM:+0100
TZOFFSETTO:+0200
TZNAME:CEST
DTSTART:20120325T010000
END:DAYLIGHT
BEGIN:STANDARD
TZOFFSETFROM:+0200
TZOFFSETTO:+0100
TZNAME:CET
DTSTART:20121028T010000
END:STANDARD
END:VTIMEZONE
BEGIN:VEVENT
DTSTART;TZID=Europe/Paris:20120602T140000
DTEND;TZID=Europe/Paris:20120603T220000
DTSTAMP:20260419T211921
CREATED:20240403T112627Z
LAST-MODIFIED:20240418T134739Z
UID:1766-1338645600-1338760800@lelieuditrestaurant.com
SUMMARY:Rencontre-discussion avec Alain Badiou\, « Petit salon du livre politique »
DESCRIPTION:La 5ème édition du « Petit salon du livre politique » aura lieu les samedis 2 et dimanche 3 juin\, de 14h à 22h au Lieu-Dit\nAvec Amsterdam\, Entremonde\, Ère\, La dispute\, La fabrique\, L’échappée\, Le passager clandestin\, L’épervier\, Les prairies ordinaires\, Le temps des cerises\, Libertalia\, Lux\, Nous\, Raisons d’agir\, Rue des cascades\, Syllepse et Zones. \n2 débats prévus : \n• avec Alain Badiou\, samedi 2 juin à 19h30 \n• avec André Schiffrin\, dimanche 3 juin à 15h \nCe salon réunit dix-sept éditeurs qui tous\, quelle que soit leur taille\, consacrent une partie importante de leur catalogue à « la politique »\, c’est-à-dire à la critique de l’ordre existant et aux moyens d’en sortir. \nHistoire\, sociologie\, philosophie\, ethnographie\, la plupart des disciplines qu’on regroupe sous le nom bizarre de « sciences humaines » y sont représentées. Peu d’ouvrages académiques\, davantage de livres subversifs (pour éviter de les appeler « militants » ou « engagés ».) \nIl y aura au Lieu-Dit comme chaque année\, des débats\, des rencontres\, et surtout une atmosphère amicale qui fait de ce salon un événement qui ne ressemble à rien de ce que ce mot recouvre\, en général. \nRejoignez-nous en donnant selon votre générosité !\n	\n					\n				\n				\n					\n					\n				\n\n					\n	\n	\n	\n	\n			\n		\n				\n			\n								Montant du don :\n				\n				€			\n		\n		5\,00€3\,00€7\,00€Montant personnalisé\n	\n				Sélectionnez un moyen de paiement			\n			\n		\n\n		\n						\n										\n							\n							 Stripe - Carte de crédit\n						\n												\n							\n							 PayPal\n						\n												\n							\n							 Don de Test\n						\n									\n					\n			\n\n	\n	\n\n			\n		\n			Informations personnelles		\n\n		\n        \n            \n                Prénom                                    *\n                                            \n            \n         \n\n        \n            \n                Nom                                    *\n                                            \n\n            \n         \n\n        \n                \n            \n                Adresse e-mail                                    *\n                                                \n            \n\n         \n\n        \n					\n	\n        \n            \n                Information de carte bancaire            \n\n                            \n                    \n                    \n					Paiement sécurisé par SSL.				\n                \n                            \n                \n                    \n                        Numéro de la carte                        *\n                        \n                        \n                    \n                    \n                \n            \n\n            \n                \n                    \n                        CVC                        *\n                        \n                    \n                    \n                \n            \n\n            \n                \n                    Nom du propriétaire                    *\n                    \n                \n                \n            \n\n            \n            \n                \n                    \n                        Date d’expiration                        *\n                        \n                    \n\n                    \n                \n            \n                    \n        	\n			\n				\n			Total du don :		\n		\n			5\,00€		\n			 \n		\n	\n		\n		\n		\n	\n		\n	\n	\n\n				\n\n			Votre soutien est crucial pour faire de nos événements un succès. \nRejoignez-nous en donnant selon votre générosité ! \nPARTICIPATION LIBRE
URL:https://lelieuditrestaurant.com/evenement/rencontre-discussion-avec-alain-badiou-petit-salon-du-livre-politique/
LOCATION:Le Lieu-dit\, 6 rue sorbier\, Paris\, 75020\, France
CATEGORIES:Manifestations thématiques,Rencontres littéraires / débats,Salon du livre politique
ATTACH;FMTTYPE=image/png:https://lelieuditrestaurant.com/wp-content/uploads/2024/04/Capture-decran-2024-04-03-a-13.25.59.png
END:VEVENT
BEGIN:VEVENT
DTSTART;TZID=Europe/Paris:20120609T170000
DTEND;TZID=Europe/Paris:20120609T180000
DTSTAMP:20260419T211921
CREATED:20240403T143714Z
LAST-MODIFIED:20240403T143757Z
UID:1777-1339261200-1339264800@lelieuditrestaurant.com
SUMMARY:Rencontre-débat avec Benjamin Coriat\, Économiste Atterré
DESCRIPTION:« Pacte Budgétaire » et la « Règle d’Or »« L’Europe mal-Traitée » \nà l’invitation de RéCiF \nDans le cadre de la sortie prochaine du livre des Économistes Atterrés « L’Europe maltraitée : refuser le pacte budgétaire\, ouvrir de nouvelles perspectives en Europe »\, Benjamin Coriat nous parlera du Pacte budgétaire et de sa Règle d’or initiés par le couple Merkosy. \nBenjamin Coriat est professeur d’économie à l’université Paris 13 et co-président de l’Association des Économistes atterrés. \nLes Économistes Atterrés : \nIls sont économistes et ils sont atterrés. Ils ne se résignent pas à la domination de l’orthodoxie néolibérale sur la pensée économique et jugent nécessaire de changer le paradigme des politiques économiques en Europe et dans le monde. \nhttp://atterres.org/ \nRéCiF : \npour Résistance Citoyenne à la Finance\, est un collectif qui œuvre à diffuser et soutenir une critique active de l’économie financiarisée. Mieux comprendre les mécanismes de la finance et discuter ensemble des règles à lui imposer… c’est le but de RéCif. \nNous remercions les membres du Repaire de La-bas s’y j’y suis Paris 20e et le café-restaurant « Le Lieu dit » d’accueillir cette conférence-débat. \nImportant : \nL’intervention de Benjamin Coriat ainsi que les prises de paroles seront filmées et mises à la libre disposition de tous sur différentes plateformes de diffusions et sites Web. \nRejoignez-nous en donnant selon votre générosité !\n	\n					\n				\n				\n					\n					\n				\n\n					\n	\n	\n	\n	\n			\n		\n				\n			\n								Montant du don :\n				\n				€			\n		\n		5\,00€3\,00€7\,00€Montant personnalisé\n	\n				Sélectionnez un moyen de paiement			\n			\n		\n\n		\n						\n										\n							\n							 Stripe - Carte de crédit\n						\n												\n							\n							 PayPal\n						\n												\n							\n							 Don de Test\n						\n									\n					\n			\n\n	\n	\n\n			\n		\n			Informations personnelles		\n\n		\n        \n            \n                Prénom                                    *\n                                            \n            \n         \n\n        \n            \n                Nom                                    *\n                                            \n\n            \n         \n\n        \n                \n            \n                Adresse e-mail                                    *\n                                                \n            \n\n         \n\n        \n					\n	\n        \n            \n                Information de carte bancaire            \n\n                            \n                    \n                    \n					Paiement sécurisé par SSL.				\n                \n                            \n                \n                    \n                        Numéro de la carte                        *\n                        \n                        \n                    \n                    \n                \n            \n\n            \n                \n                    \n                        CVC                        *\n                        \n                    \n                    \n                \n            \n\n            \n                \n                    Nom du propriétaire                    *\n                    \n                \n                \n            \n\n            \n            \n                \n                    \n                        Date d’expiration                        *\n                        \n                    \n\n                    \n                \n            \n                    \n        	\n			\n				\n			Total du don :		\n		\n			5\,00€		\n			 \n		\n	\n		\n		\n		\n	\n		\n	\n	\n\n				\n\n			Votre soutien est crucial pour faire de nos événements un succès. \nRejoignez-nous en donnant selon votre générosité ! \nPARTICIPATION LIBRE
URL:https://lelieuditrestaurant.com/evenement/rencontr-debat-avec-benjamin-coriat-economiste-atterre/
LOCATION:Le Lieu-dit\, 6 rue sorbier\, Paris\, 75020\, France
CATEGORIES:Rencontres littéraires / débats
END:VEVENT
BEGIN:VEVENT
DTSTART;TZID=Europe/Paris:20120612T190000
DTEND;TZID=Europe/Paris:20120612T200000
DTSTAMP:20260419T211921
CREATED:20240403T161917Z
LAST-MODIFIED:20240403T162217Z
UID:1781-1339527600-1339531200@lelieuditrestaurant.com
SUMMARY:Pourquoi le Kosovo ? Lecture-musique-débat
DESCRIPTION:Proposée par la Compagnie Engag’Art\, \nautour de la création théâtrale Arc-en-noir. \nPourquoi s’intéresser au Kosovo aujourd’hui\, en France et en Europe ? Pourquoi une mission internationale au Kosovo ? Pourquoi l’OTAN au Kosovo ? \nLa réalité du Kosovo est trop grevée par ces pourquoi ? qui laissent trop peu de place aux comment ? \nComment parler du Kosovo ? Comment le Kosovo peut devenir une communauté politique indépendante ? Quels enjeux le Kosovo représente-t-il pour l’Europe ? \nInterventions : \nOrgest Azizaj\, doctorant en philosophie à l’Université de Paris 8. Il est activiste du mouvement Vetevendosje (auto-détermination) au Kosovo. \nOdile Perrot\, Docteur en science politique\, ancienne « democratization officer » pour l’OSCE au Kosovo. Elle est l’auteur de Les équivoques du Kosovo sous contrôle international\, 1999-2007 »\, LGDJ – Fondation Varenne\, Paris\, 2007. http://od.perrot.free.fr/ \nCatherine Samary\, maître de conférence à l’Université de Paris Dauphine en économie\, membre du conseil scientifique d’ATTAC. Elle est l’auteur de Yougoslavie : de la décomposition aux enjeux européens\, préface d’Edgar Morin\, Ed. du Cygne\, Paris\, 2008 \nModératrice : \nKassia Aleksic\, auteur de la pièce Arc-en-noir et directrice artistique de la Compagnie Engag’Art\, dont le but est de populariser l’accès au savoir par le biais du spectacle vivant. \nLe débat sera précédé d’une lecture de la pièce Arc-en-noir (extraits)\, qui fait suite à une enquête d’anthropologie au Kosovo. Le texte est aujourd’hui matière pour une création théâtrale collective et pluridisciplinaire. \nInterprétation : Aude Le Pape\, Nicolas Gaspar\, Noémie Sanson \nMusique : Rémi Fox\, Marcel Korenhof\, Ivan Zec \nChorégraphie : Yun Seon Hong \nSous la direction de : Kassia Aleksic \nRejoignez-nous en donnant selon votre générosité !\n	\n					\n				\n				\n					\n					\n				\n\n					\n	\n	\n	\n	\n			\n		\n				\n			\n								Montant du don :\n				\n				€			\n		\n		5\,00€3\,00€7\,00€Montant personnalisé\n	\n				Sélectionnez un moyen de paiement			\n			\n		\n\n		\n						\n										\n							\n							 Stripe - Carte de crédit\n						\n												\n							\n							 PayPal\n						\n												\n							\n							 Don de Test\n						\n									\n					\n			\n\n	\n	\n\n			\n		\n			Informations personnelles		\n\n		\n        \n            \n                Prénom                                    *\n                                            \n            \n         \n\n        \n            \n                Nom                                    *\n                                            \n\n            \n         \n\n        \n                \n            \n                Adresse e-mail                                    *\n                                                \n            \n\n         \n\n        \n					\n	\n        \n            \n                Information de carte bancaire            \n\n                            \n                    \n                    \n					Paiement sécurisé par SSL.				\n                \n                            \n                \n                    \n                        Numéro de la carte                        *\n                        \n                        \n                    \n                    \n                \n            \n\n            \n                \n                    \n                        CVC                        *\n                        \n                    \n                    \n                \n            \n\n            \n                \n                    Nom du propriétaire                    *\n                    \n                \n                \n            \n\n            \n            \n                \n                    \n                        Date d’expiration                        *\n                        \n                    \n\n                    \n                \n            \n                    \n        	\n			\n				\n			Total du don :		\n		\n			5\,00€		\n			 \n		\n	\n		\n		\n		\n	\n		\n	\n	\n\n				\n\n			Votre soutien est crucial pour faire de nos événements un succès. \nRejoignez-nous en donnant selon votre générosité ! \nPARTICIPATION LIBRE
URL:https://lelieuditrestaurant.com/evenement/pourquoi-le-kosovo-lecture-musique-debat/
LOCATION:Le Lieu-dit\, 6 rue sorbier\, Paris\, 75020\, France
CATEGORIES:Rencontres littéraires / débats
ATTACH;FMTTYPE=image/png:https://lelieuditrestaurant.com/wp-content/uploads/2024/04/Capture-decran-2024-04-03-a-18.18.22.png
END:VEVENT
BEGIN:VEVENT
DTSTART;TZID=Europe/Paris:20120619T190000
DTEND;TZID=Europe/Paris:20120619T203000
DTSTAMP:20260419T211921
CREATED:20240403T162705Z
LAST-MODIFIED:20240403T162812Z
UID:1784-1340132400-1340137800@lelieuditrestaurant.com
SUMMARY:Rencontre/débat autour du Dictionnaire des dominations en présence de Said Bouamama et de Jessy Cormont
DESCRIPTION:A l’occasion de la parution du Dictionnaire des dominations\, les éditions Syllepse vous invitent à une rencontre avec deux membres du collectif Manouchian\, auteur du livre. \n« La déconstruction des mots\, concepts et argumentaires qui accompagnent les dominations est une nécessité pour abolir celles-ci. Le présent glossaire se veut être une modeste contribution aux combats contre les dominations de sexe\, de race et de classe qui caractérisent notre société en s’articulant de manière systémique. \nLe collectif Manouchian qui anime le site Les Figures de la domination ne se définit pas comme un collectif de chercheurs mais comme un regroupement de militantsIl n’y a pas pour les membres de ce collectif de connaissances qui ne soient situées\, ni de subjectivité qui pourrait se prétendre au-dessus de la mêlée des affrontements sociaux. » \nDictionnaire des dominations \nAuteur : Collectif Manouchian \n  \nDepuis que les relations de domination existent\, les dominés se sont insurgés pour les abolir et les dominants se sont évertués à les justifier. \nLe combat du vocabulaire\, des théories explicatives de la réalité\, des grilles de lectures des faits sociaux\, fait ainsi partie des luttes sociales. La déconstruction des mots\, concepts et argumentaires qui accompagnent les dominations est une nécessité pour abolir celles-ci. \nLe présent glossaire se veut être une modeste contribution aux combats contre les dominations de sexe\, de race et de classe qui caractérisent notre société en s’articulant de manière systémique. \nLe collectif Manouchian qui anime le site Les Figures de la domination ne se définit pas comme un collectif de chercheurs mais comme un regroupement de militants ayant eu par leurs trajectoires accès à des savoirs et connaissances qu’ils souhaitent mettre au service de la lutte contre les dominations. \nIl n’y a pas pour les membres de ce collectif de connaissances qui ne soient situées\, ni de subjectivité qui pourrait se prétendre au-dessus de la mêlée des affrontements sociaux. Tant que subsiste la domination\, il n’existe pas de tierce position qui ne se situe soit du côté des dominants\, soit du côté des dominés. \nLes luttes sociales se menant également dans la sphère des idées\, chacun est inévitablement sommé de choisir son camp ; ainsi\, le fait de refuser de choisir un camp\, ou de se prétendre extérieur aux batailles en cours est en soi un positionnement\, un choix. \nCollection « Utopie Critique »Parution : Avril 2012Pages : 332 pagesFormat : 150 x 210ISBN : 97-2849503447 \nRejoignez-nous en donnant selon votre générosité !\n	\n					\n				\n				\n					\n					\n				\n\n					\n	\n	\n	\n	\n			\n		\n				\n			\n								Montant du don :\n				\n				€			\n		\n		5\,00€3\,00€7\,00€Montant personnalisé\n	\n				Sélectionnez un moyen de paiement			\n			\n		\n\n		\n						\n										\n							\n							 Stripe - Carte de crédit\n						\n												\n							\n							 PayPal\n						\n												\n							\n							 Don de Test\n						\n									\n					\n			\n\n	\n	\n\n			\n		\n			Informations personnelles		\n\n		\n        \n            \n                Prénom                                    *\n                                            \n            \n         \n\n        \n            \n                Nom                                    *\n                                            \n\n            \n         \n\n        \n                \n            \n                Adresse e-mail                                    *\n                                                \n            \n\n         \n\n        \n					\n	\n        \n            \n                Information de carte bancaire            \n\n                            \n                    \n                    \n					Paiement sécurisé par SSL.				\n                \n                            \n                \n                    \n                        Numéro de la carte                        *\n                        \n                        \n                    \n                    \n                \n            \n\n            \n                \n                    \n                        CVC                        *\n                        \n                    \n                    \n                \n            \n\n            \n                \n                    Nom du propriétaire                    *\n                    \n                \n                \n            \n\n            \n            \n                \n                    \n                        Date d’expiration                        *\n                        \n                    \n\n                    \n                \n            \n                    \n        	\n			\n				\n			Total du don :		\n		\n			5\,00€		\n			 \n		\n	\n		\n		\n		\n	\n		\n	\n	\n\n				\n\n			Votre soutien est crucial pour faire de nos événements un succès. \nRejoignez-nous en donnant selon votre générosité ! \nPARTICIPATION LIBRE
URL:https://lelieuditrestaurant.com/evenement/rencontre-debat-autour-du-dictionnaire-des-dominations-en-presence-de-said-bouamama-et-de-jessy-cormont/
LOCATION:Le Lieu-dit\, 6 rue sorbier\, Paris\, 75020\, France
CATEGORIES:Rencontres littéraires / débats
END:VEVENT
BEGIN:VEVENT
DTSTART;TZID=Europe/Paris:20120629T190000
DTEND;TZID=Europe/Paris:20120629T210000
DTSTAMP:20260419T211921
CREATED:20240403T163046Z
LAST-MODIFIED:20240409T085658Z
UID:1789-1340996400-1341003600@lelieuditrestaurant.com
SUMMARY:Débat proposé la revue Mouvements : RIO+20 / Vers de droits de la nature ?
DESCRIPTION:Soirée Débat au Lieu Dit\, à l’occasion de la parution du numéro de Mouvements : RIO+20 / Vers de droits de la nature ? \nLe Sommet de la Terre de Rio\, en 1992\, était censé marquer une étape décisive dans l’invention d’un mode de développement respectueux de l’environnement et réducteur des inégalités sociales. \n20 ans après\, le climat se réchauffe\, la crise financière s’installe comme un horizon durable\, les inégalités sociales se creusent\, les océans se vident… Que penser du nouveau Sommet de la Terre\, qui est censé promouvoir « l’économie verte » comme réponse à tous ces maux ? Quels sont les enjeux ? \nComment changer le système\, plutôt que le climat ? Avec qui ? Comment parvenir à promouvoir un « bien-vivre »\, alternatif au capitalisme prédateur et destructeur des écosystèmes ? Quelles politiques (et droits !) de la Nature devons-nous mettre en oeuvre ? \nMouvements vous invite à participer à une soirée de discussions et débats\, avec les auteurs de son numéro spécial et des participants au sommet de Rio+20. \nRejoignez-nous en donnant selon votre générosité !\n	\n					\n				\n				\n					\n					\n				\n\n					\n	\n	\n	\n	\n			\n		\n				\n			\n								Montant du don :\n				\n				€			\n		\n		5\,00€3\,00€7\,00€Montant personnalisé\n	\n				Sélectionnez un moyen de paiement			\n			\n		\n\n		\n						\n										\n							\n							 Stripe - Carte de crédit\n						\n												\n							\n							 PayPal\n						\n												\n							\n							 Don de Test\n						\n									\n					\n			\n\n	\n	\n\n			\n		\n			Informations personnelles		\n\n		\n        \n            \n                Prénom                                    *\n                                            \n            \n         \n\n        \n            \n                Nom                                    *\n                                            \n\n            \n         \n\n        \n                \n            \n                Adresse e-mail                                    *\n                                                \n            \n\n         \n\n        \n					\n	\n        \n            \n                Information de carte bancaire            \n\n                            \n                    \n                    \n					Paiement sécurisé par SSL.				\n                \n                            \n                \n                    \n                        Numéro de la carte                        *\n                        \n                        \n                    \n                    \n                \n            \n\n            \n                \n                    \n                        CVC                        *\n                        \n                    \n                    \n                \n            \n\n            \n                \n                    Nom du propriétaire                    *\n                    \n                \n                \n            \n\n            \n            \n                \n                    \n                        Date d’expiration                        *\n                        \n                    \n\n                    \n                \n            \n                    \n        	\n			\n				\n			Total du don :		\n		\n			5\,00€		\n			 \n		\n	\n		\n		\n		\n	\n		\n	\n	\n\n				\n\n			Votre soutien est crucial pour faire de nos événements un succès. \nRejoignez-nous en donnant selon votre générosité ! \nPARTICIPATION LIBRE
URL:https://lelieuditrestaurant.com/evenement/debat-propose-la-revue-mouvements-rio20-vers-de-droits-de-la-nature/
LOCATION:Le Lieu-dit\, 6 rue sorbier\, Paris\, 75020\, France
CATEGORIES:Rencontres littéraires / débats
ATTACH;FMTTYPE=image/png:https://lelieuditrestaurant.com/wp-content/uploads/2024/04/Capture-decran-2024-04-08-a-15.31.45.png
END:VEVENT
END:VCALENDAR