BEGIN:VCALENDAR
VERSION:2.0
PRODID:-// - ECPv6.5.0//NONSGML v1.0//EN
CALSCALE:GREGORIAN
METHOD:PUBLISH
X-ORIGINAL-URL:https://lelieuditrestaurant.com
X-WR-CALDESC:évènements pour 
REFRESH-INTERVAL;VALUE=DURATION:PT1H
X-Robots-Tag:noindex
X-PUBLISHED-TTL:PT1H
BEGIN:VTIMEZONE
TZID:Europe/Paris
BEGIN:DAYLIGHT
TZOFFSETFROM:+0100
TZOFFSETTO:+0200
TZNAME:CEST
DTSTART:20100328T010000
END:DAYLIGHT
BEGIN:STANDARD
TZOFFSETFROM:+0200
TZOFFSETTO:+0100
TZNAME:CET
DTSTART:20101031T010000
END:STANDARD
END:VTIMEZONE
BEGIN:VEVENT
DTSTART;TZID=Europe/Paris:20101203T200000
DTEND;TZID=Europe/Paris:20101203T220000
DTSTAMP:20260421T034411
CREATED:20240331T161246Z
LAST-MODIFIED:20240331T161532Z
UID:1594-1291406400-1291413600@lelieuditrestaurant.com
SUMMARY:Rencontre-discussion avec Hacène BELMESSOUS
DESCRIPTION:Autour de son dernier livre « Opération banlieues : comment l’Etat prépare la guerre urbaine dans les cités françaises »\n  \nEntre 1977 et 2003\, la politique de la ville visait à « réinjecter du droit commun » dans les quartiers d’habitat social. \nMais depuis\, derrière les grands discours\, une autre politique se déploie discrètement : la préparation d’une guerre totale aux cités\, transformées en véritables ghettos ethniques\, chaudrons sociaux dont le « traitement » ne relèverait plus que de l’éradication ou de la force armée. \nVoilà ce que démontre cette enquête implacable d’Hacène Belmessous\, nourrie de documents confidentiels\, de témoignages d’acteurs de la « sécurité urbaine » ? politiques\, urbanistes\, policiers\, gendarmes et militaires ? et de visites des lieux où militaires et gendarmes se préparent à la contre-guérilla urbaine. \nIl explique ainsi qu’un objectif caché des opérations de rénovation urbaine est de faciliter les interventions policières\, voire militaires\, à venir dans ces territoires. Et il montre comment\, à la suite des émeutes de 2005\, deux nouveaux intervenants ont été enrôlés par le pouvoir sarkozyste : la gendarmerie mobile et l’armée de terre. Car avec l’adoption en 2008 du Livre blanc sur la défense et la sécurité nationale\, l’idée d’un engagement des forces terrestres en banlieue n’est plus un tabou. Mais s’ils se disent loyaux envers le chef de l’État\, nombre d’officiers interrogés récusent ce « scénario de l’inacceptable ». Quant aux gendarmes\, ils contestent ouvertement leur rapprochement avec la police\, tandis que nombre de policiers\, aujourd’hui en première ligne\, récusent la militarisation croissante de leur action. \nAutant de révélations inquiétantes\, pointant les graves dérives d’une politique d’État ayant fait sienne un nouvel adage : « Si tu veux la guerre\, prépare la guerre ! » \nRejoignez-nous en donnant selon votre générosité !\n	\n					\n				\n				\n					\n					\n				\n\n					\n	\n	\n	\n	\n			\n		\n				\n			\n								Montant du don :\n				\n				€			\n		\n		5\,00€3\,00€7\,00€Montant personnalisé\n	\n				Sélectionnez un moyen de paiement			\n			\n		\n\n		\n						\n										\n							\n							 Stripe - Carte de crédit\n						\n												\n							\n							 PayPal\n						\n												\n							\n							 Don de Test\n						\n									\n					\n			\n\n	\n	\n\n			\n		\n			Informations personnelles		\n\n		\n        \n            \n                Prénom                                    *\n                                            \n            \n         \n\n        \n            \n                Nom                                    *\n                                            \n\n            \n         \n\n        \n                \n            \n                Adresse e-mail                                    *\n                                                \n            \n\n         \n\n        \n					\n	\n        \n            \n                Information de carte bancaire            \n\n                            \n                    \n                    \n					Paiement sécurisé par SSL.				\n                \n                            \n                \n                    \n                        Numéro de la carte                        *\n                        \n                        \n                    \n                    \n                \n            \n\n            \n                \n                    \n                        CVC                        *\n                        \n                    \n                    \n                \n            \n\n            \n                \n                    Nom du propriétaire                    *\n                    \n                \n                \n            \n\n            \n            \n                \n                    \n                        Date d’expiration                        *\n                        \n                    \n\n                    \n                \n            \n                    \n        	\n			\n				\n			Total du don :		\n		\n			5\,00€		\n			 \n		\n	\n		\n		\n		\n	\n		\n	\n	\n\n				\n\n			Votre soutien est crucial pour faire de nos événements un succès. \nRejoignez-nous en donnant selon votre générosité ! \nPARTICIPATION LIBRE
URL:https://lelieuditrestaurant.com/evenement/rencontre-discussion-avec-hacene-belmessous/
LOCATION:Le Lieu-dit\, 6 rue sorbier\, Paris\, 75020\, France
CATEGORIES:Rencontres littéraires / débats
END:VEVENT
END:VCALENDAR