BEGIN:VCALENDAR
VERSION:2.0
PRODID:-// - ECPv6.5.0//NONSGML v1.0//EN
CALSCALE:GREGORIAN
METHOD:PUBLISH
X-ORIGINAL-URL:https://lelieuditrestaurant.com
X-WR-CALDESC:évènements pour 
REFRESH-INTERVAL;VALUE=DURATION:PT1H
X-Robots-Tag:noindex
X-PUBLISHED-TTL:PT1H
BEGIN:VTIMEZONE
TZID:Europe/Paris
BEGIN:DAYLIGHT
TZOFFSETFROM:+0100
TZOFFSETTO:+0200
TZNAME:CEST
DTSTART:20120325T010000
END:DAYLIGHT
BEGIN:STANDARD
TZOFFSETFROM:+0200
TZOFFSETTO:+0100
TZNAME:CET
DTSTART:20121028T010000
END:STANDARD
END:VTIMEZONE
BEGIN:VEVENT
DTSTART;TZID=Europe/Paris:20120131T190000
DTEND;TZID=Europe/Paris:20120131T210000
DTSTAMP:20260420T051700
CREATED:20240403T093925Z
LAST-MODIFIED:20240403T094127Z
UID:1702-1328036400-1328043600@lelieuditrestaurant.com
SUMMARY:Débat avec Laurent Jeanpierre & Luc Boltanski / Avis de recherche ! La gouvernementalité socialiste
DESCRIPTION:Première soirée-débat \nle mardi 31 janvier 2012 de 19h à 21h \navec Laurent Jeanpierre et Luc Boltanski \nAvis de recherche !La gouvernementalité socialiste \nDans une formule provocatrice\, Michel Foucault estimait « qu’il n’y a pas de gouvernementalité socialiste autonome » ; il en concluait que cette gouvernementalité\, « il faut l’inventer ». Y a-t-il un art socialiste de gouverner ? Comment penser ensemble l’émancipation socialiste et les impératifs de l’organisation ? Le socialisme ne signifie-t-il pas\, par essence\, l’extinction de la politique et des rapports de pouvoir ? Ou\, à l’inverse\, la tradition socialiste\, de la Commune de Paris à Porto Alegre\, de Flora Tristan à Evo Morales\, n’est-elle pas riche de réflexions et pratiques autour de nouvelles manières de conduire les hommes – jusque dans ses échecs les plus notables ?Réinterroger la réalité et la possibilité d’une politique du socialisme qui ne soient ni celle de la bureaucratie d’État ni celle d’un libéralisme tempéré\, telle est l’ambition de ce séminaire qui se tiendra au Lieu-Dit\, de janvier à juin 2012. Avec des historiens\, sociologues\, militants\, philosophes ou économistes\, le public est invité à échanger librement sur les questions suivantes : une gouvernementalité socialiste est-elle possible ? Et si oui\, à quoi pourrait-elle bien ressembler ?Au-delà de la campagne électorale qui battra son plein\, dans un contexte de crise globale historique et de renouvellement des formes de mobilisation sociale\, ces soirées-débats seront l’occasion d’aller plus loin que la critique du néolibéralisme\, en (re)découvrant collectivement les réalités et les virtualités du socialisme et de sa politique. \nCalendrier 2012 (les mardis de 19h à 21h au Lieu-Dit) \n\n31 janvier : Laurent Jeanpierre & Luc Boltanski\n14 février : Michelle Riot-Sarcey & Samuel Hayat\n6 mars : Yves Cohen\n20 mars : Pierre Dardot & Christian Laval\n3 avril : Yves Citton & Frédéric Lordon\nmai-juin (dates à préciser) : séance(s) de débats entre militants sur les modes d’organisation (collectifs\, mouvements\, partis\, syndicats\, etc.)\n\nCertains textes seront disponibles en ligne sur le site du Lieu-Dit \nRejoignez-nous en donnant selon votre générosité !\n	\n					\n				\n				\n					\n					\n				\n\n					\n	\n	\n	\n	\n			\n		\n				\n			\n								Montant du don :\n				\n				€			\n		\n		5\,00€3\,00€7\,00€Montant personnalisé\n	\n				Sélectionnez un moyen de paiement			\n			\n		\n\n		\n						\n										\n							\n							 Stripe - Carte de crédit\n						\n												\n							\n							 PayPal\n						\n												\n							\n							 Don de Test\n						\n									\n					\n			\n\n	\n	\n\n			\n		\n			Informations personnelles		\n\n		\n        \n            \n                Prénom                                    *\n                                            \n            \n         \n\n        \n            \n                Nom                                    *\n                                            \n\n            \n         \n\n        \n                \n            \n                Adresse e-mail                                    *\n                                                \n            \n\n         \n\n        \n					\n	\n        \n            \n                Information de carte bancaire            \n\n                            \n                    \n                    \n					Paiement sécurisé par SSL.				\n                \n                            \n                \n                    \n                        Numéro de la carte                        *\n                        \n                        \n                    \n                    \n                \n            \n\n            \n                \n                    \n                        CVC                        *\n                        \n                    \n                    \n                \n            \n\n            \n                \n                    Nom du propriétaire                    *\n                    \n                \n                \n            \n\n            \n            \n                \n                    \n                        Date d’expiration                        *\n                        \n                    \n\n                    \n                \n            \n                    \n        	\n			\n				\n			Total du don :		\n		\n			5\,00€		\n			 \n		\n	\n		\n		\n		\n	\n		\n	\n	\n\n				\n\n			Votre soutien est crucial pour faire de nos événements un succès. \nRejoignez-nous en donnant selon votre générosité ! \nPARTICIPATION LIBRE
URL:https://lelieuditrestaurant.com/evenement/debat-avec-laurent-jeanpierre-luc-boltanski-avis-de-recherche-la-gouvernementalite-socialiste/
LOCATION:Le Lieu-dit\, 6 rue sorbier\, Paris\, 75020\, France
CATEGORIES:Rencontres littéraires / débats
END:VEVENT
END:VCALENDAR