BEGIN:VCALENDAR
VERSION:2.0
PRODID:-// - ECPv6.5.0//NONSGML v1.0//EN
CALSCALE:GREGORIAN
METHOD:PUBLISH
X-ORIGINAL-URL:https://lelieuditrestaurant.com
X-WR-CALDESC:évènements pour 
REFRESH-INTERVAL;VALUE=DURATION:PT1H
X-Robots-Tag:noindex
X-PUBLISHED-TTL:PT1H
BEGIN:VTIMEZONE
TZID:Europe/Paris
BEGIN:DAYLIGHT
TZOFFSETFROM:+0100
TZOFFSETTO:+0200
TZNAME:CEST
DTSTART:20120325T010000
END:DAYLIGHT
BEGIN:STANDARD
TZOFFSETFROM:+0200
TZOFFSETTO:+0100
TZNAME:CET
DTSTART:20121028T010000
END:STANDARD
END:VTIMEZONE
BEGIN:VEVENT
DTSTART;TZID=Europe/Paris:20120412T190000
DTEND;TZID=Europe/Paris:20120412T200000
DTSTAMP:20260420T020430
CREATED:20240403T111520Z
LAST-MODIFIED:20240403T111708Z
UID:1754-1334257200-1334260800@lelieuditrestaurant.com
SUMMARY:Débat public Proposé par le collectif " Notre santé en danger " : Notre santé ça me regarde !
DESCRIPTION:Pour un SERVICE PUBLIC de Santé solidaire\, de Proximité\, accessible partout à toutes et à tous \nProtection sociale de la santé malmenée dans de nombreux pays : Grèce\, Angleterre\, Espagne … et France. \nManque criant de moyens dans les hôpitaux\, dégradation de la médecine scolaire et du travail. \nFermeture de maternités\, de centres de planning et d’IVG\, de services hospitaliers\, de centres de santé et médico-psychologiques\, d’établissements pour personnes âgées. \nDétérioration de la Sécurité Sociale. \nExtension de la désertification médicale. \nNouveaux partenariats-public-privé destructeurs. \nL’accès aux soins est de plus en plus difficile et inégalitaire.Notre santé est en danger ! \nQue faire face à cette situation ? \nQuelles mobilisations\, quelles alternatives ? \nAvec : Marie-Josée Pépin du collectif Tenon\, Françoise Nay coordination des hôpitaux\, MariHélène Durieux sud santé sociaux\, Jean Pierre Martin union des syndicats de psychiatrie\, JeanClaude Chailley RéSo et convergence services publics\, et de nombreuses personnalités associatives et politiques… \nRejoignez-nous en donnant selon votre générosité !\n	\n					\n				\n				\n					\n					\n				\n\n					\n	\n	\n	\n	\n			\n		\n				\n			\n								Montant du don :\n				\n				€			\n		\n		5\,00€3\,00€7\,00€Montant personnalisé\n	\n				Sélectionnez un moyen de paiement			\n			\n		\n\n		\n						\n										\n							\n							 Stripe - Carte de crédit\n						\n												\n							\n							 PayPal\n						\n												\n							\n							 Don de Test\n						\n									\n					\n			\n\n	\n	\n\n			\n		\n			Informations personnelles		\n\n		\n        \n            \n                Prénom                                    *\n                                            \n            \n         \n\n        \n            \n                Nom                                    *\n                                            \n\n            \n         \n\n        \n                \n            \n                Adresse e-mail                                    *\n                                                \n            \n\n         \n\n        \n					\n	\n        \n            \n                Information de carte bancaire            \n\n                            \n                    \n                    \n					Paiement sécurisé par SSL.				\n                \n                            \n                \n                    \n                        Numéro de la carte                        *\n                        \n                        \n                    \n                    \n                \n            \n\n            \n                \n                    \n                        CVC                        *\n                        \n                    \n                    \n                \n            \n\n            \n                \n                    Nom du propriétaire                    *\n                    \n                \n                \n            \n\n            \n            \n                \n                    \n                        Date d’expiration                        *\n                        \n                    \n\n                    \n                \n            \n                    \n        	\n			\n				\n			Total du don :		\n		\n			5\,00€		\n			 \n		\n	\n		\n		\n		\n	\n		\n	\n	\n\n				\n\n			Votre soutien est crucial pour faire de nos événements un succès. \nRejoignez-nous en donnant selon votre générosité ! \nPARTICIPATION LIBRE
URL:https://lelieuditrestaurant.com/evenement/debat-public-propose-par-le-collectif-notre-sante-en-danger-notre-sante-ca-me-regarde/
LOCATION:Le Lieu-dit\, 6 rue sorbier\, Paris\, 75020\, France
CATEGORIES:Rencontres littéraires / débats
END:VEVENT
END:VCALENDAR