BEGIN:VCALENDAR
VERSION:2.0
PRODID:-// - ECPv6.5.0//NONSGML v1.0//EN
CALSCALE:GREGORIAN
METHOD:PUBLISH
X-ORIGINAL-URL:https://lelieuditrestaurant.com
X-WR-CALDESC:évènements pour 
REFRESH-INTERVAL;VALUE=DURATION:PT1H
X-Robots-Tag:noindex
X-PUBLISHED-TTL:PT1H
BEGIN:VTIMEZONE
TZID:Europe/Paris
BEGIN:DAYLIGHT
TZOFFSETFROM:+0100
TZOFFSETTO:+0200
TZNAME:CEST
DTSTART:20120325T010000
END:DAYLIGHT
BEGIN:STANDARD
TZOFFSETFROM:+0200
TZOFFSETTO:+0100
TZNAME:CET
DTSTART:20121028T010000
END:STANDARD
END:VTIMEZONE
BEGIN:VEVENT
DTSTART;TZID=Europe/Paris:20120612T190000
DTEND;TZID=Europe/Paris:20120612T200000
DTSTAMP:20260419T224758
CREATED:20240403T161917Z
LAST-MODIFIED:20240403T162217Z
UID:1781-1339527600-1339531200@lelieuditrestaurant.com
SUMMARY:Pourquoi le Kosovo ? Lecture-musique-débat
DESCRIPTION:Proposée par la Compagnie Engag’Art\, \nautour de la création théâtrale Arc-en-noir. \nPourquoi s’intéresser au Kosovo aujourd’hui\, en France et en Europe ? Pourquoi une mission internationale au Kosovo ? Pourquoi l’OTAN au Kosovo ? \nLa réalité du Kosovo est trop grevée par ces pourquoi ? qui laissent trop peu de place aux comment ? \nComment parler du Kosovo ? Comment le Kosovo peut devenir une communauté politique indépendante ? Quels enjeux le Kosovo représente-t-il pour l’Europe ? \nInterventions : \nOrgest Azizaj\, doctorant en philosophie à l’Université de Paris 8. Il est activiste du mouvement Vetevendosje (auto-détermination) au Kosovo. \nOdile Perrot\, Docteur en science politique\, ancienne « democratization officer » pour l’OSCE au Kosovo. Elle est l’auteur de Les équivoques du Kosovo sous contrôle international\, 1999-2007 »\, LGDJ – Fondation Varenne\, Paris\, 2007. http://od.perrot.free.fr/ \nCatherine Samary\, maître de conférence à l’Université de Paris Dauphine en économie\, membre du conseil scientifique d’ATTAC. Elle est l’auteur de Yougoslavie : de la décomposition aux enjeux européens\, préface d’Edgar Morin\, Ed. du Cygne\, Paris\, 2008 \nModératrice : \nKassia Aleksic\, auteur de la pièce Arc-en-noir et directrice artistique de la Compagnie Engag’Art\, dont le but est de populariser l’accès au savoir par le biais du spectacle vivant. \nLe débat sera précédé d’une lecture de la pièce Arc-en-noir (extraits)\, qui fait suite à une enquête d’anthropologie au Kosovo. Le texte est aujourd’hui matière pour une création théâtrale collective et pluridisciplinaire. \nInterprétation : Aude Le Pape\, Nicolas Gaspar\, Noémie Sanson \nMusique : Rémi Fox\, Marcel Korenhof\, Ivan Zec \nChorégraphie : Yun Seon Hong \nSous la direction de : Kassia Aleksic \nRejoignez-nous en donnant selon votre générosité !\n	\n					\n				\n				\n					\n					\n				\n\n					\n	\n	\n	\n	\n			\n		\n				\n			\n								Montant du don :\n				\n				€			\n		\n		5\,00€3\,00€7\,00€Montant personnalisé\n	\n				Sélectionnez un moyen de paiement			\n			\n		\n\n		\n						\n										\n							\n							 Stripe - Carte de crédit\n						\n												\n							\n							 PayPal\n						\n												\n							\n							 Don de Test\n						\n									\n					\n			\n\n	\n	\n\n			\n		\n			Informations personnelles		\n\n		\n        \n            \n                Prénom                                    *\n                                            \n            \n         \n\n        \n            \n                Nom                                    *\n                                            \n\n            \n         \n\n        \n                \n            \n                Adresse e-mail                                    *\n                                                \n            \n\n         \n\n        \n					\n	\n        \n            \n                Information de carte bancaire            \n\n                            \n                    \n                    \n					Paiement sécurisé par SSL.				\n                \n                            \n                \n                    \n                        Numéro de la carte                        *\n                        \n                        \n                    \n                    \n                \n            \n\n            \n                \n                    \n                        CVC                        *\n                        \n                    \n                    \n                \n            \n\n            \n                \n                    Nom du propriétaire                    *\n                    \n                \n                \n            \n\n            \n            \n                \n                    \n                        Date d’expiration                        *\n                        \n                    \n\n                    \n                \n            \n                    \n        	\n			\n				\n			Total du don :		\n		\n			5\,00€		\n			 \n		\n	\n		\n		\n		\n	\n		\n	\n	\n\n				\n\n			Votre soutien est crucial pour faire de nos événements un succès. \nRejoignez-nous en donnant selon votre générosité ! \nPARTICIPATION LIBRE
URL:https://lelieuditrestaurant.com/evenement/pourquoi-le-kosovo-lecture-musique-debat/
LOCATION:Le Lieu-dit\, 6 rue sorbier\, Paris\, 75020\, France
CATEGORIES:Rencontres littéraires / débats
ATTACH;FMTTYPE=image/png:https://lelieuditrestaurant.com/wp-content/uploads/2024/04/Capture-decran-2024-04-03-a-18.18.22.png
END:VEVENT
END:VCALENDAR