BEGIN:VCALENDAR
VERSION:2.0
PRODID:-// - ECPv6.5.0//NONSGML v1.0//EN
CALSCALE:GREGORIAN
METHOD:PUBLISH
X-ORIGINAL-URL:https://lelieuditrestaurant.com
X-WR-CALDESC:évènements pour 
REFRESH-INTERVAL;VALUE=DURATION:PT1H
X-Robots-Tag:noindex
X-PUBLISHED-TTL:PT1H
BEGIN:VTIMEZONE
TZID:Europe/Paris
BEGIN:DAYLIGHT
TZOFFSETFROM:+0100
TZOFFSETTO:+0200
TZNAME:CEST
DTSTART:20120325T010000
END:DAYLIGHT
BEGIN:STANDARD
TZOFFSETFROM:+0200
TZOFFSETTO:+0100
TZNAME:CET
DTSTART:20121028T010000
END:STANDARD
END:VTIMEZONE
BEGIN:VEVENT
DTSTART;TZID=Europe/Paris:20120629T190000
DTEND;TZID=Europe/Paris:20120629T210000
DTSTAMP:20260419T212650
CREATED:20240403T163046Z
LAST-MODIFIED:20240409T085658Z
UID:1789-1340996400-1341003600@lelieuditrestaurant.com
SUMMARY:Débat proposé la revue Mouvements : RIO+20 / Vers de droits de la nature ?
DESCRIPTION:Soirée Débat au Lieu Dit\, à l’occasion de la parution du numéro de Mouvements : RIO+20 / Vers de droits de la nature ? \nLe Sommet de la Terre de Rio\, en 1992\, était censé marquer une étape décisive dans l’invention d’un mode de développement respectueux de l’environnement et réducteur des inégalités sociales. \n20 ans après\, le climat se réchauffe\, la crise financière s’installe comme un horizon durable\, les inégalités sociales se creusent\, les océans se vident… Que penser du nouveau Sommet de la Terre\, qui est censé promouvoir « l’économie verte » comme réponse à tous ces maux ? Quels sont les enjeux ? \nComment changer le système\, plutôt que le climat ? Avec qui ? Comment parvenir à promouvoir un « bien-vivre »\, alternatif au capitalisme prédateur et destructeur des écosystèmes ? Quelles politiques (et droits !) de la Nature devons-nous mettre en oeuvre ? \nMouvements vous invite à participer à une soirée de discussions et débats\, avec les auteurs de son numéro spécial et des participants au sommet de Rio+20. \nRejoignez-nous en donnant selon votre générosité !\n	\n					\n				\n				\n					\n					\n				\n\n					\n	\n	\n	\n	\n			\n		\n				\n			\n								Montant du don :\n				\n				€			\n		\n		5\,00€3\,00€7\,00€Montant personnalisé\n	\n				Sélectionnez un moyen de paiement			\n			\n		\n\n		\n						\n										\n							\n							 Stripe - Carte de crédit\n						\n												\n							\n							 PayPal\n						\n												\n							\n							 Don de Test\n						\n									\n					\n			\n\n	\n	\n\n			\n		\n			Informations personnelles		\n\n		\n        \n            \n                Prénom                                    *\n                                            \n            \n         \n\n        \n            \n                Nom                                    *\n                                            \n\n            \n         \n\n        \n                \n            \n                Adresse e-mail                                    *\n                                                \n            \n\n         \n\n        \n					\n	\n        \n            \n                Information de carte bancaire            \n\n                            \n                    \n                    \n					Paiement sécurisé par SSL.				\n                \n                            \n                \n                    \n                        Numéro de la carte                        *\n                        \n                        \n                    \n                    \n                \n            \n\n            \n                \n                    \n                        CVC                        *\n                        \n                    \n                    \n                \n            \n\n            \n                \n                    Nom du propriétaire                    *\n                    \n                \n                \n            \n\n            \n            \n                \n                    \n                        Date d’expiration                        *\n                        \n                    \n\n                    \n                \n            \n                    \n        	\n			\n				\n			Total du don :		\n		\n			5\,00€		\n			 \n		\n	\n		\n		\n		\n	\n		\n	\n	\n\n				\n\n			Votre soutien est crucial pour faire de nos événements un succès. \nRejoignez-nous en donnant selon votre générosité ! \nPARTICIPATION LIBRE
URL:https://lelieuditrestaurant.com/evenement/debat-propose-la-revue-mouvements-rio20-vers-de-droits-de-la-nature/
LOCATION:Le Lieu-dit\, 6 rue sorbier\, Paris\, 75020\, France
CATEGORIES:Rencontres littéraires / débats
ATTACH;FMTTYPE=image/png:https://lelieuditrestaurant.com/wp-content/uploads/2024/04/Capture-decran-2024-04-08-a-15.31.45.png
END:VEVENT
END:VCALENDAR