BEGIN:VCALENDAR
VERSION:2.0
PRODID:-// - ECPv6.5.0//NONSGML v1.0//EN
CALSCALE:GREGORIAN
METHOD:PUBLISH
X-ORIGINAL-URL:https://lelieuditrestaurant.com
X-WR-CALDESC:évènements pour 
REFRESH-INTERVAL;VALUE=DURATION:PT1H
X-Robots-Tag:noindex
X-PUBLISHED-TTL:PT1H
BEGIN:VTIMEZONE
TZID:Europe/Paris
BEGIN:DAYLIGHT
TZOFFSETFROM:+0100
TZOFFSETTO:+0200
TZNAME:CEST
DTSTART:20120325T010000
END:DAYLIGHT
BEGIN:STANDARD
TZOFFSETFROM:+0200
TZOFFSETTO:+0100
TZNAME:CET
DTSTART:20121028T010000
END:STANDARD
END:VTIMEZONE
BEGIN:VEVENT
DTSTART;TZID=Europe/Paris:20121004T190000
DTEND;TZID=Europe/Paris:20121004T210000
DTSTAMP:20260419T165004
CREATED:20240403T170002Z
LAST-MODIFIED:20240403T170002Z
UID:1820-1349377200-1349384400@lelieuditrestaurant.com
SUMMARY:"TRANSMIGRANTS / DIASPORA"\, rencontre débat entre la revue Multitudes et les éditions Amsterdam
DESCRIPTION:Le débat entre Alain Tarrius et Stéphane Dufoix\, et leurs amis\, sera modéré par Anne Querrien\, co-directrice de la revue Multitudes. \nLa revue Multitudes a publié récemment un dossier sur les « transmigrants »\, tandis que les éditions Amsterdam publiait un livre sur les diasporas.Les démarches sont très différentes mais dans les deux cas il s’agit de pratiques migratoires portées par les migrants eux-mêmes et mises en œuvre au sein de leurs communautés linguistiques et religieuses par dessus les frontières propres aux pays d’accueil\, d’où les préfixes trans ou dia. \nLe dossier publié par Multitudes est centré davantage sur des pratiques commerciales se déroulant dans tout l’espace européen ; il est coordonné par Alain Tarrius\, qui s’est déjà illustré plusieurs fois dans l’étude des pratiques commerciales des migrants. \nLe livre de Stéphane Dufoix publié par Amsterdam s’interroge de manière très documentée sur l’usage du mot diaspora et sur la manière dont un sens très spécifique – liée à la dispersion de la communauté juive par l’empire romain – en est venu à se renverser et s’étendre pour désigner toute communauté dispersée dans le monde. Les commerçants étudiés par Alain Tarrius et ses amis se déplacent au sein de leurs diasporas\, font de ces diasporas une ressource plutôt qu’une contrainte. \nNous avons pensé\, Multitudes et Amsterdam\, qu’un dialogue entre Stéphane Dufoix et l’équipe de chercheurs réunie par Alain Tarrirus permettrait tout à la fois de mieux comprendre le concept de diaspora et de mieux connaître les pratiques économiques des migrants en Europe. \nJeudi 4 octobre au Lieu Dit\, 6 rue Sorbier\, Paris 20Métro Ménilmontant \nRejoignez-nous en donnant selon votre générosité !\n	\n					\n				\n				\n					\n					\n				\n\n					\n	\n	\n	\n	\n			\n		\n				\n			\n								Montant du don :\n				\n				€			\n		\n		5\,00€3\,00€7\,00€Montant personnalisé\n	\n				Sélectionnez un moyen de paiement			\n			\n		\n\n		\n						\n										\n							\n							 Stripe - Carte de crédit\n						\n												\n							\n							 PayPal\n						\n												\n							\n							 Don de Test\n						\n									\n					\n			\n\n	\n	\n\n			\n		\n			Informations personnelles		\n\n		\n        \n            \n                Prénom                                    *\n                                            \n            \n         \n\n        \n            \n                Nom                                    *\n                                            \n\n            \n         \n\n        \n                \n            \n                Adresse e-mail                                    *\n                                                \n            \n\n         \n\n        \n					\n	\n        \n            \n                Information de carte bancaire            \n\n                            \n                    \n                    \n					Paiement sécurisé par SSL.				\n                \n                            \n                \n                    \n                        Numéro de la carte                        *\n                        \n                        \n                    \n                    \n                \n            \n\n            \n                \n                    \n                        CVC                        *\n                        \n                    \n                    \n                \n            \n\n            \n                \n                    Nom du propriétaire                    *\n                    \n                \n                \n            \n\n            \n            \n                \n                    \n                        Date d’expiration                        *\n                        \n                    \n\n                    \n                \n            \n                    \n        	\n			\n				\n			Total du don :		\n		\n			5\,00€		\n			 \n		\n	\n		\n		\n		\n	\n		\n	\n	\n\n				\n\n			Votre soutien est crucial pour faire de nos événements un succès. \nRejoignez-nous en donnant selon votre générosité ! \nPARTICIPATION LIBRE
URL:https://lelieuditrestaurant.com/evenement/transmigrants-diaspora-rencontre-debat-entre-la-revue-multitudes-et-les-editions-amsterdam/
LOCATION:Le Lieu-dit\, 6 rue sorbier\, Paris\, 75020\, France
CATEGORIES:Rencontres littéraires / débats
END:VEVENT
END:VCALENDAR