BEGIN:VCALENDAR
VERSION:2.0
PRODID:-// - ECPv6.5.0//NONSGML v1.0//EN
CALSCALE:GREGORIAN
METHOD:PUBLISH
X-ORIGINAL-URL:https://lelieuditrestaurant.com
X-WR-CALDESC:évènements pour 
REFRESH-INTERVAL;VALUE=DURATION:PT1H
X-Robots-Tag:noindex
X-PUBLISHED-TTL:PT1H
BEGIN:VTIMEZONE
TZID:Europe/Paris
BEGIN:DAYLIGHT
TZOFFSETFROM:+0100
TZOFFSETTO:+0200
TZNAME:CEST
DTSTART:20120325T010000
END:DAYLIGHT
BEGIN:STANDARD
TZOFFSETFROM:+0200
TZOFFSETTO:+0100
TZNAME:CET
DTSTART:20121028T010000
END:STANDARD
END:VTIMEZONE
BEGIN:VEVENT
DTSTART;TZID=Europe/Paris:20121120T193000
DTEND;TZID=Europe/Paris:20121120T203000
DTSTAMP:20260419T153403
CREATED:20240403T164823Z
LAST-MODIFIED:20240403T165007Z
UID:1811-1353439800-1353443400@lelieuditrestaurant.com
SUMMARY:Rencontre / discussion avec Jean Stern en présence d’Eric Hazan son éditeur autour de " Les patron de la presse nationale"
DESCRIPTION:Machine à décerveler\, moutonnière\, banale\, égocentrique\, la presse nationale a perdu des millions de lecteurs depuis 20 ans. Coïncidence ? C’est le temps qu’il a fallu au CAC 40 pour s’emparer de la plupart des journaux\, du Monde à Libération\, des Inrockuptibles aux Échos. \nLes industriels du luxe\, de l’armement ou de la communication se sont offerts des journaux devenus « voix de leurs maîtres ».Il est de bon ton\, pour expliquer l’échec de la presse française\, de mettre en cause la montée en puissance d’Internet ; ou encore quelques journalistes vedettes zélateurs de l’ordre social\, qui resteraient confinés dans un étroit réseau d’amitiés élitistes. \nEn réalité\, ce sont les patrons qui sont les véritables responsables de cette défaite. Ils en tirent un double profit. Idéologique d’abord. Maintenue tout juste hors d’eau\, la presse enquête peu\, analyse peu et sert en copié-collé les mêmes idées. Faute de moyens\, les enquêtes économiques\, sociales et internationales sont largement délaissées. \nProfit financier ensuite. Les nouveaux propriétaires milliardaires se sont nourris du spectaculaire échec d’un système de cogestion mis en place à la Libération entre l’État\, les gaullistes et le PCF\, puis de la complicité de leur « bon ami » Mitterrand. Ils ont achevé de soumettre une presse qui avait fait depuis longtemps le deuil de ses utopies. Il ne leur en coûte en réalité pas un euro\, malgré leurs jérémiades et leurs dignes postures de mécènes. \nCar pour les milliardaires\, comme Bernard Arnault\, Serge Dassault ou Xavier Niel\, s’offrir des journaux est fiscalement avantageux\, grâce à l’astucieux système des holdings dites « familiales » mis à jour avec l’affaire Bettencourt. \nLa presse à la niche… fiscale ? Mais pas que. Les patrons de la presse nationale dresse l’incroyable récit de ce naufrage et décortique les réseaux qui ont organisé la soumission des journalistes. \nJean STERN est journaliste. Ancien de Libération et de La Tribune\, il a également travaillé pour 7 à Paris et Le Nouvel Économiste. Il a participé à la fondation de Gai Pied en 1978 et est l’éditeur de la revue De l’autre côté. Il est aujourd’hui directeur pédagogique de l’EMI\, Scop de formation à l’université Paris X. \nwww.lafabrique.fr \nParution : 15 octobre 2012Format : 13×20Nombre de pages : 99Prix : 13 eurosISBN : 978-2-35872-037-3 \nRejoignez-nous en donnant selon votre générosité !\n	\n					\n				\n				\n					\n					\n				\n\n					\n	\n	\n	\n	\n			\n		\n				\n			\n								Montant du don :\n				\n				€			\n		\n		5\,00€3\,00€7\,00€Montant personnalisé\n	\n				Sélectionnez un moyen de paiement			\n			\n		\n\n		\n						\n										\n							\n							 Stripe - Carte de crédit\n						\n												\n							\n							 PayPal\n						\n												\n							\n							 Don de Test\n						\n									\n					\n			\n\n	\n	\n\n			\n		\n			Informations personnelles		\n\n		\n        \n            \n                Prénom                                    *\n                                            \n            \n         \n\n        \n            \n                Nom                                    *\n                                            \n\n            \n         \n\n        \n                \n            \n                Adresse e-mail                                    *\n                                                \n            \n\n         \n\n        \n					\n	\n        \n            \n                Information de carte bancaire            \n\n                            \n                    \n                    \n					Paiement sécurisé par SSL.				\n                \n                            \n                \n                    \n                        Numéro de la carte                        *\n                        \n                        \n                    \n                    \n                \n            \n\n            \n                \n                    \n                        CVC                        *\n                        \n                    \n                    \n                \n            \n\n            \n                \n                    Nom du propriétaire                    *\n                    \n                \n                \n            \n\n            \n            \n                \n                    \n                        Date d’expiration                        *\n                        \n                    \n\n                    \n                \n            \n                    \n        	\n			\n				\n			Total du don :		\n		\n			5\,00€		\n			 \n		\n	\n		\n		\n		\n	\n		\n	\n	\n\n				\n\n			Votre soutien est crucial pour faire de nos événements un succès. \nRejoignez-nous en donnant selon votre générosité ! \nPARTICIPATION LIBRE
URL:https://lelieuditrestaurant.com/evenement/rencontre-discussion-avec-jean-stern-en-presence-deric-hazan-son-editeur-autour-de-les-patron-de-la-presse-nationale/
LOCATION:Le Lieu-dit\, 6 rue sorbier\, Paris\, 75020\, France
CATEGORIES:Rencontres littéraires / débats
END:VEVENT
END:VCALENDAR