BEGIN:VCALENDAR
VERSION:2.0
PRODID:-// - ECPv6.5.0//NONSGML v1.0//EN
CALSCALE:GREGORIAN
METHOD:PUBLISH
X-ORIGINAL-URL:https://lelieuditrestaurant.com
X-WR-CALDESC:évènements pour 
REFRESH-INTERVAL;VALUE=DURATION:PT1H
X-Robots-Tag:noindex
X-PUBLISHED-TTL:PT1H
BEGIN:VTIMEZONE
TZID:Europe/Paris
BEGIN:DAYLIGHT
TZOFFSETFROM:+0100
TZOFFSETTO:+0200
TZNAME:CEST
DTSTART:20120325T010000
END:DAYLIGHT
BEGIN:STANDARD
TZOFFSETFROM:+0200
TZOFFSETTO:+0100
TZNAME:CET
DTSTART:20121028T010000
END:STANDARD
END:VTIMEZONE
BEGIN:VEVENT
DTSTART;TZID=Europe/Paris:20121128T190000
DTEND;TZID=Europe/Paris:20121128T203000
DTSTAMP:20260419T135603
CREATED:20240404T103432Z
LAST-MODIFIED:20240404T103432Z
UID:1846-1354129200-1354134600@lelieuditrestaurant.com
SUMMARY:Rencontre/discussion "Quelle critique du sionisme ?" proposée par la Rdl
DESCRIPTION:Rencontre avec Joëlle Marelli et Nacira Guenif-Souilamas autour de « Shlomo Sand\, le peuple et l’exil » de Joëlle Marelli (RdL n° 8\, nov.-déc. 2012\, à propos de Comment le peuple juif fut inventé de Shlomo Sand) \nSi l’on s’accorde avec Shlomo Sand sur la nécessité d’une critique fondamentale des présupposés du sionisme\, faut-il pour autant le suivre quand il prétend récuser la légitimité de l’auto-désignation de « peuple » juif ? Retour sur l’ouvrage majeur de Shlomo Sand\, à l’occasion de la parution de Comment la terre d’Israël fut inventée (Flammarion\, 2012) qui en prolonge le projet. \nJoëlle Marelli est traductrice et directrice de programme au Collège international de philosophie. \nhttp://www.revuedeslivres.fr/ \n\nRejoignez-nous en donnant selon votre générosité !\n	\n					\n				\n				\n					\n					\n				\n\n					\n	\n	\n	\n	\n			\n		\n				\n			\n								Montant du don :\n				\n				€			\n		\n		5\,00€3\,00€7\,00€Montant personnalisé\n	\n				Sélectionnez un moyen de paiement			\n			\n		\n\n		\n						\n										\n							\n							 Stripe - Carte de crédit\n						\n												\n							\n							 PayPal\n						\n												\n							\n							 Don de Test\n						\n									\n					\n			\n\n	\n	\n\n			\n		\n			Informations personnelles		\n\n		\n        \n            \n                Prénom                                    *\n                                            \n            \n         \n\n        \n            \n                Nom                                    *\n                                            \n\n            \n         \n\n        \n                \n            \n                Adresse e-mail                                    *\n                                                \n            \n\n         \n\n        \n					\n	\n        \n            \n                Information de carte bancaire            \n\n                            \n                    \n                    \n					Paiement sécurisé par SSL.				\n                \n                            \n                \n                    \n                        Numéro de la carte                        *\n                        \n                        \n                    \n                    \n                \n            \n\n            \n                \n                    \n                        CVC                        *\n                        \n                    \n                    \n                \n            \n\n            \n                \n                    Nom du propriétaire                    *\n                    \n                \n                \n            \n\n            \n            \n                \n                    \n                        Date d’expiration                        *\n                        \n                    \n\n                    \n                \n            \n                    \n        	\n			\n				\n			Total du don :		\n		\n			5\,00€		\n			 \n		\n	\n		\n		\n		\n	\n		\n	\n	\n\n				\n\n			Votre soutien est crucial pour faire de nos événements un succès. \nRejoignez-nous en donnant selon votre générosité ! \nPARTICIPATION LIBRE
URL:https://lelieuditrestaurant.com/evenement/rencontre-discussion-quelle-critique-du-sionisme-proposee-par-la-rdl/
LOCATION:Le Lieu-dit\, 6 rue sorbier\, Paris\, 75020\, France
CATEGORIES:Rencontres littéraires / débats
END:VEVENT
END:VCALENDAR