BEGIN:VCALENDAR
VERSION:2.0
PRODID:-// - ECPv6.5.0//NONSGML v1.0//EN
CALSCALE:GREGORIAN
METHOD:PUBLISH
X-ORIGINAL-URL:https://lelieuditrestaurant.com
X-WR-CALDESC:évènements pour 
REFRESH-INTERVAL;VALUE=DURATION:PT1H
X-Robots-Tag:noindex
X-PUBLISHED-TTL:PT1H
BEGIN:VTIMEZONE
TZID:Europe/Paris
BEGIN:DAYLIGHT
TZOFFSETFROM:+0100
TZOFFSETTO:+0200
TZNAME:CEST
DTSTART:20130331T010000
END:DAYLIGHT
BEGIN:STANDARD
TZOFFSETFROM:+0200
TZOFFSETTO:+0100
TZNAME:CET
DTSTART:20131027T010000
END:STANDARD
END:VTIMEZONE
BEGIN:VEVENT
DTSTART;TZID=Europe/Paris:20130113T163000
DTEND;TZID=Europe/Paris:20130113T183000
DTSTAMP:20260421T115645
CREATED:20240404T173504Z
LAST-MODIFIED:20240404T173602Z
UID:1872-1358094600-1358101800@lelieuditrestaurant.com
SUMMARY:"PRISONS DE FEMMES\, FEMMES EN PRISON" Rencontre/débat avec Claude Guillaumaud-Pujol\, auteure du livre\, "Prisons de Femmes\, Janine \,Janet et Debbie \,une histoire Américaine" et Celine Verzeletti\, responsable syndicale CGT\, pénitentiare. Proposée par L’association Droits des Femmes XXeme
DESCRIPTION:On sait peu de choses sur la vie en prison\, encore moins dans les prisons de femmes\, monde ignoré\, méconnu\, comme s’il n’existait pas ou dérangeait. \nAux Etats Unis\, Janine\, Janet et Debbie prisonnières politiques sont incarcérées depuis 1978. \nCe pays représente 5%de la population mondiale\, mais 25% des prisonniers dans le monde. \nParmi eux les femmes sont de plus en plus nombreuses. Pourquoi ? \nQuels sont les mécanismes qui mènent à l’incarcération\, les moyens d’expression de cesprisonnières face au système judiciaire\, leur vie quotidienne ? \nA travers les portraits de ces 3 Femmes\, Claude Guillaumaud -Pujol a étudié les conditions générales de détention aux Etats -Unis. \nEn France\, parce qu’elles sont minoritaires dans le monde carcéral\, environ 4% \, on en parle pas\, ou peu. \nSi les femmes souffrent moins de la surpopulation\, leurs conditions de vie sont difficilespour d’autres raisons\, occupant souvent des espaces réquisitionnés sur les bâtiments des hommes\, leur confinement se répercute sur leur santé physique et morale……. \nPasser les jugements\, les clichés\, c’est quoi la vie des femmes derrière les barreaux ?pour en discuter : \nL’association Droits des Femmes XXeme \, organise un débat : » PRISONS DE FEMMES\, FEMMES EN PRISON  » \nDIMANCHE 13 JANVIER à 16H30 \, « AU LIEU DIT »6 rue Sorbier Paris 20eme\, métro Ménilmontant\navec Claude Guillaumaud-Pujol\, maitre de conférences \,spécialiste des Etats unisauteure du livre\, Prisons de Femmes\, Janine \,Janet et Debbie \,une histoire Américaineet Celine Verzeletti \,responsable syndicale CGT\, pénitentiare. \nL’Association Droits des Femmes XXeme\, féministe\, mixte et laïque a pour but de promouvoir et défendre les intérêts et droits des femmes\, de lutter contre toutes les formes de violence\, de discrimination\, de marginalisation ou d’exclusion à l’égard des femmes. \nassociationdroitsdesfemmes20@laposte.net \nRejoignez-nous en donnant selon votre générosité !\n	\n					\n				\n				\n					\n					\n				\n\n					\n	\n	\n	\n	\n			\n		\n				\n			\n								Montant du don :\n				\n				€			\n		\n		5\,00€3\,00€7\,00€Montant personnalisé\n	\n				Sélectionnez un moyen de paiement			\n			\n		\n\n		\n						\n										\n							\n							 Stripe - Carte de crédit\n						\n												\n							\n							 PayPal\n						\n												\n							\n							 Don de Test\n						\n									\n					\n			\n\n	\n	\n\n			\n		\n			Informations personnelles		\n\n		\n        \n            \n                Prénom                                    *\n                                            \n            \n         \n\n        \n            \n                Nom                                    *\n                                            \n\n            \n         \n\n        \n                \n            \n                Adresse e-mail                                    *\n                                                \n            \n\n         \n\n        \n					\n	\n        \n            \n                Information de carte bancaire            \n\n                            \n                    \n                    \n					Paiement sécurisé par SSL.				\n                \n                            \n                \n                    \n                        Numéro de la carte                        *\n                        \n                        \n                    \n                    \n                \n            \n\n            \n                \n                    \n                        CVC                        *\n                        \n                    \n                    \n                \n            \n\n            \n                \n                    Nom du propriétaire                    *\n                    \n                \n                \n            \n\n            \n            \n                \n                    \n                        Date d’expiration                        *\n                        \n                    \n\n                    \n                \n            \n                    \n        	\n			\n				\n			Total du don :		\n		\n			5\,00€		\n			 \n		\n	\n		\n		\n		\n	\n		\n	\n	\n\n				\n\n			Votre soutien est crucial pour faire de nos événements un succès. \nRejoignez-nous en donnant selon votre générosité ! \nPARTICIPATION LIBRE
URL:https://lelieuditrestaurant.com/evenement/prisons-de-femmes-femmes-en-prison-rencontre-debat-avec-claude-guillaumaud-pujol-auteure-du-livre-prisons-de-femmes-janine-janet-et-debbie-une-histoire-americaine-et-celine-verzeletti/
LOCATION:Le Lieu-dit\, 6 rue sorbier\, Paris\, 75020\, France
CATEGORIES:Rencontres littéraires / débats
END:VEVENT
END:VCALENDAR