BEGIN:VCALENDAR
VERSION:2.0
PRODID:-// - ECPv6.5.0//NONSGML v1.0//EN
CALSCALE:GREGORIAN
METHOD:PUBLISH
X-ORIGINAL-URL:https://lelieuditrestaurant.com
X-WR-CALDESC:évènements pour 
REFRESH-INTERVAL;VALUE=DURATION:PT1H
X-Robots-Tag:noindex
X-PUBLISHED-TTL:PT1H
BEGIN:VTIMEZONE
TZID:Europe/Paris
BEGIN:DAYLIGHT
TZOFFSETFROM:+0100
TZOFFSETTO:+0200
TZNAME:CEST
DTSTART:20130331T010000
END:DAYLIGHT
BEGIN:STANDARD
TZOFFSETFROM:+0200
TZOFFSETTO:+0100
TZNAME:CET
DTSTART:20131027T010000
END:STANDARD
END:VTIMEZONE
BEGIN:VEVENT
DTSTART;TZID=Europe/Paris:20130413T183000
DTEND;TZID=Europe/Paris:20130413T183000
DTSTAMP:20260421T020506
CREATED:20240418T112057Z
LAST-MODIFIED:20240418T112057Z
UID:4307-1365877800-1365877800@lelieuditrestaurant.com
SUMMARY:Projection / Rencontre avec la COLIFATA\, organisée par Le projet SOVO (Son et Voix)\, Pico y Pala et UTOPSY / " LT22 RADIO LA COLIFATA" Documentaire / 94’ / Carlos Larrondo / 2007 / Espagne
DESCRIPTION:L’émission “LT Radio La Colifata” est un programme intégralement réalisé par les internes de l’Hôpital Borda\, à Buenos Aires. Ses protagonistes\, les « Colifatos »\, nous présentent le fonctionnement de cette radio qui émet depuis 1991. \nNous verrons que La Colifata permet de rompre des barrières entre les personnes confinées dans l’asile et la société\, et propose aux locuteurs de reconstruire leur souffrance\, de se produire comme des sujets plus autonomes. \nNous découvrons également d’autres radios européennes qui se sont inspirées de ce projet pionnier. \nDébat avec le réalisateur\, Alfredo Olivera (fondateur de La Colifata et membre de Radio Citron)\, et en présence exceptionnelle de 6 radios européennes du projet SOVO (Son et Voix) : Radio Aurora (Portugal)\, Totalnormal (Suède)\, Nikosia (Espagne)\, Sovo (Pologne)\, Terra Blue (Italie)\, Citron (France) et England Radio (Angleterre). \n\nRejoignez-nous en donnant selon votre générosité !\n	\n					\n				\n				\n					\n					\n				\n\n					\n	\n	\n	\n	\n			\n		\n				\n			\n								Montant du don :\n				\n				€			\n		\n		5\,00€3\,00€7\,00€Montant personnalisé\n	\n				Sélectionnez un moyen de paiement			\n			\n		\n\n		\n						\n										\n							\n							 Stripe - Carte de crédit\n						\n												\n							\n							 PayPal\n						\n												\n							\n							 Don de Test\n						\n									\n					\n			\n\n	\n	\n\n			\n		\n			Informations personnelles		\n\n		\n        \n            \n                Prénom                                    *\n                                            \n            \n         \n\n        \n            \n                Nom                                    *\n                                            \n\n            \n         \n\n        \n                \n            \n                Adresse e-mail                                    *\n                                                \n            \n\n         \n\n        \n					\n	\n        \n            \n                Information de carte bancaire            \n\n                            \n                    \n                    \n					Paiement sécurisé par SSL.				\n                \n                            \n                \n                    \n                        Numéro de la carte                        *\n                        \n                        \n                    \n                    \n                \n            \n\n            \n                \n                    \n                        CVC                        *\n                        \n                    \n                    \n                \n            \n\n            \n                \n                    Nom du propriétaire                    *\n                    \n                \n                \n            \n\n            \n            \n                \n                    \n                        Date d’expiration                        *\n                        \n                    \n\n                    \n                \n            \n                    \n        	\n			\n				\n			Total du don :		\n		\n			5\,00€		\n			 \n		\n	\n		\n		\n		\n	\n		\n	\n	\n\n				\n\n			Votre soutien est crucial pour faire de nos événements un succès. \nRejoignez-nous en donnant selon votre générosité ! \nPARTICIPATION LIBRE
URL:https://lelieuditrestaurant.com/evenement/projection-rencontre-avec-la-colifata-organisee-par-le-projet-sovo-son-et-voix-pico-y-pala-et-utopsy-lt22-radio-la-colifata-documentaire-94-carlos-larrondo-2007-espagne/
LOCATION:Le Lieu-dit\, 6 rue sorbier\, Paris\, 75020\, France
CATEGORIES:Manifestations thématiques,Projection,Rencontres littéraires / débats
END:VEVENT
BEGIN:VEVENT
DTSTART;TZID=Europe/Paris:20130414T163000
DTEND;TZID=Europe/Paris:20130414T163000
DTSTAMP:20260421T020506
CREATED:20240418T112348Z
LAST-MODIFIED:20240418T112348Z
UID:4309-1365957000-1365957000@lelieuditrestaurant.com
SUMMARY:Deux ans après la révolution du 25 janvier 2011\, quelle situation pour l’Egypte aujourd’hui ? Projection/débat organisée par CINEMA POLITICA PARIS
DESCRIPTION:L’Egypte apparaît sporadiquement dans les médias\, uniquement pour décrire les rassemblements place Tahrir\, les violences régulières\, ou pour évoquer des faits divers. Pourtant les enjeux de la révolution se jouent bien au-delà. \nDocumentaire\, discussion\, exposition\, espace librairie : \nL’exposition « la marche du million : portrait de la révolution Egyptienne »\, illustrera les 18 jours de mobilisations qui ont mené à la chute d’Hosni Moubarak. \nLa projection du documentaire Sout el-Shabab témoignera de l’investissement de cinq ’jeunes’ au cours de l’année qui a suivi. Puis la discussion sera animée par l’une des réalisatrices de ce documentaire. \nL’après-midi se terminera de manière festive en musique\, par un trio égyptien (nay\, derbouka\, et clavier). \n16h30 – Projection du documentaire ’Sout el Shabab’\, suivi d’échanges sur l’évolution de la situation en Egypte\, en présence d’une des réalisatrices \n18h – ConcertPrix libreOù ?Le Lieu-Dit : 6 rue Sorbier\, Paris 20ème arrondissement \nPour vous y rendre :ligne 2 du métro\, à la station Ménilmontant (puis monter la rue Ménilmontant) ; ou enfin la ligne 3 et 3bis\, à la station Gambetta (prendre la rue des Pyrénées puis à droite rue Sorbier).station Vélib’ sur le trottoir d’ en face\, rue Sorbierbus 96\, à l’arrêt Henri Chevreau (le 96 passe à Châtelet\, Saint-Paul ou Ménilmontant) \nRejoignez-nous en donnant selon votre générosité !\n	\n					\n				\n				\n					\n					\n				\n\n					\n	\n	\n	\n	\n			\n		\n				\n			\n								Montant du don :\n				\n				€			\n		\n		5\,00€3\,00€7\,00€Montant personnalisé\n	\n				Sélectionnez un moyen de paiement			\n			\n		\n\n		\n						\n										\n							\n							 Stripe - Carte de crédit\n						\n												\n							\n							 PayPal\n						\n												\n							\n							 Don de Test\n						\n									\n					\n			\n\n	\n	\n\n			\n		\n			Informations personnelles		\n\n		\n        \n            \n                Prénom                                    *\n                                            \n            \n         \n\n        \n            \n                Nom                                    *\n                                            \n\n            \n         \n\n        \n                \n            \n                Adresse e-mail                                    *\n                                                \n            \n\n         \n\n        \n					\n	\n        \n            \n                Information de carte bancaire            \n\n                            \n                    \n                    \n					Paiement sécurisé par SSL.				\n                \n                            \n                \n                    \n                        Numéro de la carte                        *\n                        \n                        \n                    \n                    \n                \n            \n\n            \n                \n                    \n                        CVC                        *\n                        \n                    \n                    \n                \n            \n\n            \n                \n                    Nom du propriétaire                    *\n                    \n                \n                \n            \n\n            \n            \n                \n                    \n                        Date d’expiration                        *\n                        \n                    \n\n                    \n                \n            \n                    \n        	\n			\n				\n			Total du don :		\n		\n			5\,00€		\n			 \n		\n	\n		\n		\n		\n	\n		\n	\n	\n\n				\n\n			Votre soutien est crucial pour faire de nos événements un succès. \nRejoignez-nous en donnant selon votre générosité ! \nPARTICIPATION LIBRE
URL:https://lelieuditrestaurant.com/evenement/deux-ans-apres-la-revolution-du-25-janvier-2011-quelle-situation-pour-legypte-aujourdhui-projection-debat-organisee-par-cinema-politica-paris/
LOCATION:Le Lieu-dit\, 6 rue sorbier\, Paris\, 75020\, France
CATEGORIES:Manifestations thématiques,Projection,Spectacles / Concert
END:VEVENT
END:VCALENDAR